BEGIN:VCALENDAR
VERSION:2.0
PRODID:-//ChamberMaster//Event Calendar 2.0//EN
METHOD:PUBLISH
X-PUBLISHED-TTL:P3D
REFRESH-INTERVAL:P3D
CALSCALE:GREGORIAN
BEGIN:VEVENT
DTSTART:20230730T190000Z
DTEND:20230730T220000Z
X-MICROSOFT-CDO-ALLDAYEVENT:FALSE
SUMMARY:Sunday Chill: Kris Rodgers
DESCRIPTION:Every Sunday through Labor Day Weekend\, stop by Vinegar Hill between 3 pm and 6pm to enjoy FREE\, live music in our garden patio\, along with drink specials and food from local food trucks! All are welcome (including dogs) to this free\, family-friendly event. Feel free to bring your chair or blanket and stay awhile! Kris Rodgers: " plays an explosive\, engaging rock and roll located somewhere between Queen and Little Richard it sounds a little like the sort of stuff a twenty-something Billy Joel might write if he weren't trying to please everyone all of the time." Portland Phoenix
X-ALT-DESC;FMTTYPE=text/html:Every Sunday through Labor Day Weekend\, stop by Vinegar Hill between 3 pm and 6pm to enjoy FREE\, live music in our garden patio\, along with drink specials and food from local food trucks! All are welcome (including dogs) to this free\, family-friendly event. Feel free to bring your chair or blanket and stay awhile! Kris Rodgers: &ldquo\;&hellip\;plays an explosive\, engaging rock and roll located somewhere between Queen and Little Richard&hellip\;it sounds a little like the sort of stuff a twenty-something Billy Joel might write if he weren&rsquo\;t trying to please everyone all of the time.&rdquo\; Portland Phoenix
LOCATION:53 Old Post Road\, Arundel\, ME\, United States\, Maine
UID:e.1923.21924
SEQUENCE:3
DTSTAMP:20260422T062936Z
URL:https://chamber.gokennebunks.com/events/details/sunday-chill-kris-rodgers-21924
END:VEVENT

END:VCALENDAR
