BEGIN:VCALENDAR
VERSION:2.0
PRODID:-//ChamberMaster//Event Calendar 2.0//EN
METHOD:PUBLISH
X-PUBLISHED-TTL:P3D
REFRESH-INTERVAL:P3D
CALSCALE:GREGORIAN
BEGIN:VEVENT
DTSTART:20230723T190000Z
DTEND:20230723T220000Z
X-MICROSOFT-CDO-ALLDAYEVENT:FALSE
SUMMARY:Sunday Chill: Dan Blakeslee
DESCRIPTION:With a suitcase of songs\, Maine folk troubadour Dan Blakeslee ventured into the smoke laden subways of Boston in 1995 to practice his craft. His songs of true life adventures combine the essence of early folk music with a dose of country grit. He has toured the U.S. and performed with Josh Ritter\, Sean Rowe\, David Wax Museum\, Lydia Loveless\, The Lumineers\, Old 97's\, The Black Lillies\, Liam Finn and Kimya Dawson among others. In 2015 his dream of playing Newport Folk Festival became a reality\, the location where Bob Dylan went electric 50 years earlier. Dan Blakeslee delivers his songs with that same heart of a young\, lyric scribbling troubadour\, who knows because he's tried it\, can out sing a passing train.
X-ALT-DESC;FMTTYPE=text/html:With a suitcase of songs\, Maine folk troubadour Dan Blakeslee ventured into the smoke laden subways of Boston in 1995 to practice his craft. His songs of true life adventures combine the essence of early folk music with a dose of country grit. He has toured the U.S. and performed with Josh Ritter\, Sean Rowe\, David Wax Museum\, Lydia Loveless\, The Lumineers\, Old 97&rsquo\;s\, The Black Lillies\, Liam Finn and Kimya Dawson among others. In 2015 his dream of playing Newport Folk Festival became a reality\, the location where Bob Dylan went electric 50 years earlier. Dan Blakeslee delivers his songs with that same heart of a young\, lyric scribbling troubadour\, who knows because he&rsquo\;s tried it\, can out sing a passing train.
LOCATION:53 Old Post Road\, Arundel\, ME\, United States\, Maine
UID:e.1923.21921
SEQUENCE:3
DTSTAMP:20260422T050153Z
URL:https://chamber.gokennebunks.com/events/details/sunday-chill-dan-blakeslee-21921
END:VEVENT

END:VCALENDAR
