BEGIN:VCALENDAR
VERSION:2.0
PRODID:-//ChamberMaster//Event Calendar 2.0//EN
METHOD:PUBLISH
X-PUBLISHED-TTL:P3D
REFRESH-INTERVAL:P3D
CALSCALE:GREGORIAN
BEGIN:VEVENT
DTSTART:20230806T190000Z
DTEND:20230806T220000Z
X-MICROSOFT-CDO-ALLDAYEVENT:FALSE
SUMMARY:Sunday Chill: Artist John Nels
DESCRIPTION:Every Sunday through Labor Day Weekend\, stop by Vinegar Hill between 3 pm and 6pm to enjoy FREE\, live music in our garden patio\, along with drink specials and food from local food trucks! All are welcome (including dogs) to this free\, family-friendly event. Feel free to bring your chair or blanket and stay awhile! John Nels: Born in Caribou\, Maine- John Nels Blanchette is a proponent of home recording on a budget- with more than 10 albums and collaborations under his belt.
X-ALT-DESC;FMTTYPE=text/html:Every Sunday through Labor Day Weekend\, stop by Vinegar Hill between 3 pm and 6pm to enjoy FREE\, live music in our garden patio\, along with drink specials and food from local food trucks! All are welcome (including dogs) to this free\, family-friendly event. Feel free to bring your chair or blanket and stay awhile! John Nels: Born in Caribou\, Maine- John Nels Blanchette is a proponent of home recording on a budget- with more than 10 albums and collaborations under his belt.
LOCATION:53 Old Post Road\, Arundel\, ME\, United States\, Maine
UID:e.1923.21928
SEQUENCE:3
DTSTAMP:20260422T045533Z
URL:https://chamber.gokennebunks.com/events/details/sunday-chill-artist-john-nels-21928
END:VEVENT

END:VCALENDAR
