BEGIN:VCALENDAR
VERSION:2.0
PRODID:-//ChamberMaster//Event Calendar 2.0//EN
METHOD:PUBLISH
X-PUBLISHED-TTL:P3D
REFRESH-INTERVAL:P3D
CALSCALE:GREGORIAN
BEGIN:VEVENT
DTSTART:20180804T140000Z
DTEND:20180804T163000Z
X-MICROSOFT-CDO-ALLDAYEVENT:FALSE
SUMMARY:Summer Wildflowers
DESCRIPTION:. In the meadows of the Wells Reserve at Laudholm\, you don't need to walk very far to see a host of flowers in bloom. On this walk\, "Boot" Boutwell\, itinerant naturalist and popular trip leader for the New England Wild Flower Society and Massachusetts Audubon\, will highlight wildflower beauty\, basic identification\, natural history\, and lore. Bring a snack\, a favorite field guide\, and a hand lens if you have one. Registration required.
X-ALT-DESC;FMTTYPE=text/html:. In the meadows of the Wells Reserve at Laudholm\, you don&rsquo\;t need to walk very far to see a host of flowers in bloom. On this walk\, &ldquo\;Boot&rdquo\; Boutwell\, itinerant naturalist and popular trip leader for the New England Wild Flower Society and Massachusetts Audubon\, will highlight wildflower beauty\, basic identification\, natural history\, and lore. Bring a snack\, a favorite field guide\, and a hand lens if you have one. Registration required.
LOCATION:Wells Reserve at Laudholm 342 Laudholm Farm Rd Wells\, ME
UID:e.1923.10173
SEQUENCE:3
DTSTAMP:20260425T115613Z
URL:https://chamber.gokennebunks.com/events/details/summer-wildflowers-10173
END:VEVENT

END:VCALENDAR
