BEGIN:VCALENDAR
VERSION:2.0
PRODID:-//ChamberMaster//Event Calendar 2.0//EN
METHOD:PUBLISH
X-PUBLISHED-TTL:P3D
REFRESH-INTERVAL:P3D
CALSCALE:GREGORIAN
BEGIN:VEVENT
DTSTART:20250729T180000Z
DTEND:20250729T190000Z
X-MICROSOFT-CDO-ALLDAYEVENT:FALSE
SUMMARY:Summer Storytime with the Museum
DESCRIPTION:At Brick Store Museum\, 117 Main St\, Kennebunk. \n\nJoin us for Summer Story Time\, a delightful weekly program for young children and their caregivers! Each Tuesday afternoon in July\, we'll share an engaging story\, enjoy a fun hands-on activity\, and explore a kid-friendly part of the Museum. Perfect for ages 4 and up\, this program encourages creativity\, learning\, and imagination right in the heart of our historic galleries. Admission is free and no registration is required. Just drop in and join the fun!\n\nVisit www.brickstoremuseum.org.
X-ALT-DESC;FMTTYPE=text/html:At Brick Store Museum\, 117 Main St\, Kennebunk.&nbsp\;<br />\nJoin us for&nbsp\;Summer Story Time\, a delightful weekly program for young children and their caregivers! Each Tuesday afternoon in July\, we&rsquo\;ll share an engaging story\, enjoy a fun hands-on activity\, and explore a kid-friendly part of the Museum. Perfect for ages 4 and up\, this program encourages creativity\, learning\, and imagination&mdash\;right in the heart of our historic galleries. Admission is free and no registration is required. Just drop in and join the fun!<br />\nVisit <a href="http://www.brickstoremuseum.org/"><span style="color:windowtext">www.brickstoremuseum.org</span></a>.
LOCATION:Brick Store Museum
UID:e.1923.37621
SEQUENCE:3
DTSTAMP:20260421T073827Z
URL:https://chamber.gokennebunks.com/events/details/summer-storytime-with-the-museum-07-29-2025-37621
END:VEVENT

END:VCALENDAR
