BEGIN:VCALENDAR
VERSION:2.0
PRODID:-//ChamberMaster//Event Calendar 2.0//EN
METHOD:PUBLISH
X-PUBLISHED-TTL:P3D
REFRESH-INTERVAL:P3D
CALSCALE:GREGORIAN
BEGIN:VEVENT
DTSTART:20240730T180000Z
DTEND:20240730T190000Z
X-MICROSOFT-CDO-ALLDAYEVENT:FALSE
SUMMARY:Summer Story Time
DESCRIPTION:2PM   3PM. Brick Store Museum\, 117 Main Street\, Kennebunk. Parents and children (intended for ages 4+) are invited to the Museum for a history-themed story time and engaging activity\; plus a chance to explore the Museum and its Learning Gallery. Free Admission every Tuesday! Learn more by calling 985-4802 or visit www.brickstoremuseum.org.
X-ALT-DESC;FMTTYPE=text/html:2PM &ndash\; 3PM. Brick Store Museum\, 117 Main Street\, Kennebunk. Parents and children (intended for ages 4+) are invited to the Museum for a history-themed story time and engaging activity\; plus a chance to explore the Museum and its Learning Gallery. Free Admission every Tuesday! Learn more by calling 985-4802 or visit <a href="http://www.brickstoremuseum.org/">www.brickstoremuseum.org</a>.
LOCATION:117 Main Street\, Kennebunk\, ME 04043
UID:e.1923.29679
SEQUENCE:3
DTSTAMP:20260421T140138Z
URL:https://chamber.gokennebunks.com/events/details/summer-story-time-07-30-2024-29679
END:VEVENT

END:VCALENDAR
