BEGIN:VCALENDAR
VERSION:2.0
PRODID:-//ChamberMaster//Event Calendar 2.0//EN
METHOD:PUBLISH
X-PUBLISHED-TTL:P3D
REFRESH-INTERVAL:P3D
CALSCALE:GREGORIAN
BEGIN:VEVENT
DTSTART:20250620T110000Z
DTEND:20250620T120000Z
X-MICROSOFT-CDO-ALLDAYEVENT:FALSE
SUMMARY:Summer Solstice 108 sun salutations
DESCRIPTION:head into summer with heat\, dedication + strength. celebrate the summer solstice by flowing through 108 sun salutations. guided by your own breath\, you can go at your own pace\, feeling your mind + body sync as you move. this cardio + mental challenge will leave you feeling invigorated + your hamstrings will remind you about it all week long. \n\n\n\nwhy 108? the number 108 is sacred and significant in many ways\, appearing in many disciplines from astronomy to yoga:\n\n\n\nthe number 108 appears in ancient\, sacred texts. for example\, there are 108 upanishads and 108 tantras\n\nin numerology\, 108 equals 9\, which symbolizes universal love\, eternity and awakening\n\nin Ayurveda\, there are 108 sacred points on the body\n\nin astronomy\, the distance between the sun and earth is roughly 108 times the sun's diameter\n\nmala bead necklaces have 108 beads\, which are used to count during meditation\n\n\n\nsign up today using this link: thedailysweatkennebunk.com
X-ALT-DESC;FMTTYPE=text/html:head into summer with heat\, dedication + strength. celebrate the summer solstice by flowing through 108 sun salutations. guided by your own breath\, you can go at your own pace\, feeling your mind + body sync as you move. this cardio + mental challenge will leave you feeling invigorated + your hamstrings will remind you about it all week long.&nbsp\;<br />\n<br />\nwhy 108? the number 108 is sacred and significant in many ways\, appearing in many disciplines from astronomy to yoga:<br />\n<br />\nthe number 108 appears in ancient\, sacred texts. for example\, there are 108 upanishads and 108 tantras<br />\nin numerology\, 108 equals 9\, which symbolizes universal love\, eternity and awakening<br />\nin Ayurveda\, there are 108 sacred points on the body<br />\nin astronomy\, the distance between the sun and earth is roughly 108 times the sun&rsquo\;s diameter<br />\nmala bead necklaces have 108 beads\, which are used to count during meditation<br />\n<br />\nsign up today using this link: thedailysweatkennebunk.com
LOCATION:65 Portland RD\, Kennebunk ME\, 04043
UID:e.1923.34917
SEQUENCE:3
DTSTAMP:20260421T061211Z
URL:https://chamber.gokennebunks.com/events/details/summer-solstice-108-sun-salutations-34917
END:VEVENT

END:VCALENDAR
