BEGIN:VCALENDAR
VERSION:2.0
PRODID:-//ChamberMaster//Event Calendar 2.0//EN
METHOD:PUBLISH
X-PUBLISHED-TTL:P3D
REFRESH-INTERVAL:P3D
CALSCALE:GREGORIAN
BEGIN:VEVENT
DTSTART:20250708T140000Z
DTEND:20250708T160000Z
X-MICROSOFT-CDO-ALLDAYEVENT:FALSE
SUMMARY:Summer Series Open House at The Landing School of Boatbuilding and Design
DESCRIPTION:Discover the Art and Industry of Boatbuilding at The Landing School\n\n\n\nExperience the rich maritime heritage of the Kennebunks and explore the exciting future of the modern marine industry. During our Open House\, you'll tour the school\, meet passionate community members\, and see firsthand how traditional craftsmanship meets cutting-edge technology. Whether you're drawn to the timeless artistry of boatbuilding or looking to launch a career in the marine industry\, The Landing School is where it all begins.
X-ALT-DESC;FMTTYPE=text/html:<strong>Discover the Art and Industry of Boatbuilding at The Landing School</strong><br />\n<br />\nExperience the rich maritime heritage of the Kennebunks and explore the exciting future of the modern marine industry. During our Open House\, you&#39\;ll tour the school\, meet passionate community members\, and see firsthand how traditional craftsmanship meets cutting-edge technology. Whether you&#39\;re drawn to the timeless artistry of boatbuilding or looking to launch a career in the marine industry\, The Landing School is where it all begins.&nbsp\;<br />\n&nbsp\;
LOCATION:The Landing School of Boatbuilding and Design\, 286 River Road Arundel\, ME 04046
UID:e.1923.37535
SEQUENCE:3
DTSTAMP:20260421T074552Z
URL:https://chamber.gokennebunks.com/events/details/summer-series-open-house-at-the-landing-school-of-boatbuilding-and-design-37535
END:VEVENT

END:VCALENDAR
