BEGIN:VCALENDAR
VERSION:2.0
PRODID:-//ChamberMaster//Event Calendar 2.0//EN
METHOD:PUBLISH
X-PUBLISHED-TTL:P3D
REFRESH-INTERVAL:P3D
CALSCALE:GREGORIAN
BEGIN:VEVENT
DTSTART:20190829T110000Z
DTEND:20190829T120000Z
X-MICROSOFT-CDO-ALLDAYEVENT:FALSE
SUMMARY:Summer Series: Beach Yoga
DESCRIPTION:At The Daily Sweat we're celebrating love all month long. Join us for extra special beach yoga classes on Gooch's on Thursdays in August starting August 8. Bring a mat and/or towel and water. We'll meet at the ramp.
X-ALT-DESC;FMTTYPE=text/html:<p>At The Daily Sweat we&rsquo\;re celebrating love all month long. Join us for extra special beach yoga classes on Gooch&rsquo\;s on Thursdays in August starting August 8. Bring a mat and/or towel and water. We&rsquo\;ll meet at the ramp.</p>\n
LOCATION:Gooch's Beach Beach Ave Kennebunk\, ME 04043 Meet us at the ramp
UID:e.1923.13411
SEQUENCE:3
DTSTAMP:20260424T165823Z
URL:https://chamber.gokennebunks.com/events/details/summer-series-beach-yoga-08-29-2019-13411
END:VEVENT

END:VCALENDAR
