BEGIN:VCALENDAR
VERSION:2.0
PRODID:-//ChamberMaster//Event Calendar 2.0//EN
METHOD:PUBLISH
X-PUBLISHED-TTL:P3D
REFRESH-INTERVAL:P3D
CALSCALE:GREGORIAN
BEGIN:VEVENT
DTSTART:20240819T130000Z
DTEND:20240823T160000Z
X-MICROSOFT-CDO-ALLDAYEVENT:FALSE
SUMMARY:SUMMER PAINTING
DESCRIPTION:9:00AM-12:00PM\n\nMONDAY-FRIDAY\, AUGUST 19-23 (5 days)\n\nGrades K-2\n\nInstructor: Leah Payne\n\nIn this camp\, children will learn painting techniques to help them feel successful with a brush in their hands. Artists will explore color and shape to help them discover their individual artistic styles. Explore color mixing\, creating texture\, as well as choosing materials. Students will work on various surfaces including canvases\, rocks\, and traditional paper. Please wear clothes that look good with paint on them!\n\nMax attendees: 8\n\n\n\nREGISTER HERE: https://rivertree.app.neoncrm.com/np/clients/rivertree/event.jsp?event=12420&\n\n\n\nMembers: $235 | Non-Members: $260 (all supplies included)
X-ALT-DESC;FMTTYPE=text/html:<p><strong>9:00AM-12:00PM<br />\nMONDAY-FRIDAY\, AUGUST 19-23 (5 days)<br />\nGrades K-2</strong><br />\n<em>Instructor:&nbsp\;Leah Payne</em></p>\n\n<p>In this camp\, children will learn painting techniques to help them feel successful with a brush in their hands. Artists will explore color and shape to help them discover their individual artistic styles. Explore color mixing\, creating texture\, as well as choosing materials. Students will work on various surfaces including canvases\, rocks\, and traditional paper. Please wear clothes that look good with paint on them!</p>\n\n<p>Max attendees: 8<br />\n<br />\nREGISTER HERE:&nbsp\;<a href="https://rivertree.app.neoncrm.com/np/clients/rivertree/event.jsp?event=12420&amp\;">https://rivertree.app.neoncrm.com/np/clients/rivertree/event.jsp?event=12420&amp\;</a><br />\n<br />\nMembers: $235 | Non-Members: $260 (all supplies included)</p>\n
LOCATION:River Tree Arts\, 35 Western Ave.\, Kennebunk\, Maine
UID:e.1923.24537
SEQUENCE:3
DTSTAMP:20260421T124202Z
URL:https://chamber.gokennebunks.com/events/details/summer-painting-08-19-2024-24537
END:VEVENT

END:VCALENDAR
