BEGIN:VCALENDAR
VERSION:2.0
PRODID:-//ChamberMaster//Event Calendar 2.0//EN
METHOD:PUBLISH
X-PUBLISHED-TTL:P3D
REFRESH-INTERVAL:P3D
CALSCALE:GREGORIAN
BEGIN:VEVENT
DTSTART:20220712T220000Z
DTEND:20220712T233000Z
X-MICROSOFT-CDO-ALLDAYEVENT:FALSE
SUMMARY:Summer Music Series at the Graves Library
DESCRIPTION:oin us for some good vibes and live music in the garden at Graves Library. In July and August\, we are hosting four evenings of music performed by local musicians just for you. Bring your friends\, bring your chair\, sit back\, tap your feet\, and listen to some local beat. Let's celebrate summer\, our community\, and our fondness for talented artists right in our own back yard! These events are all weather dependent. Tuesday\, July 12 @ 6:00 pm Mark Gunter and Janet Wentworth (keyboard and vocals   country blues and jazz)   Mark and Janet are part of a variety of bands in the area.(www.facebook/janetwentworth)
X-ALT-DESC;FMTTYPE=text/html:oin us for some good vibes and live music in the garden at Graves Library. In July and August\, we are hosting four evenings of music performed by local musicians just for you. Bring your friends\, bring your chair\, sit back\, tap your feet\, and listen to some local beat. Let&rsquo\;s celebrate summer\, our community\, and our fondness for talented artists right in our own back yard! These events are all weather dependent. Tuesday\, July 12 @ 6:00 pm Mark Gunter and Janet Wentworth (keyboard and vocals &ndash\; country blues and jazz) &ndash\; Mark and Janet are part of a variety of bands in the area.(www.facebook/janetwentworth)
LOCATION:The Louis T. Graves Memorial Public Library
UID:e.1923.17374
SEQUENCE:3
DTSTAMP:20260419T175639Z
URL:https://chamber.gokennebunks.com/events/details/summer-music-series-at-the-graves-library-17374
END:VEVENT

END:VCALENDAR
