BEGIN:VCALENDAR
VERSION:2.0
PRODID:-//ChamberMaster//Event Calendar 2.0//EN
METHOD:PUBLISH
X-PUBLISHED-TTL:P3D
REFRESH-INTERVAL:P3D
CALSCALE:GREGORIAN
BEGIN:VEVENT
DTSTART:20220726T220000Z
DTEND:20220726T233000Z
X-MICROSOFT-CDO-ALLDAYEVENT:FALSE
SUMMARY:Summer Music Series at the Graves Library
DESCRIPTION:Join us for some good vibes and live music in the garden at Graves Library. In July and August\, we are hosting four evenings of music performed by local musicians just for you. Bring your friends\, bring your chair\, sit back\, tap your feet\, and listen to some local beat. Let's celebrate summer\, our community\, and our fondness for talented artists right in our own back yard! These events are all weather dependent. Tuesday\, July 26 @ 6:00 pm Don Wessel and Lisa Mills (electric guitar and vocals   a whole lot of mixing it up)   Don and Lisa play as The Ocean Ave Band (www.facebook/Oceanaveband)
X-ALT-DESC;FMTTYPE=text/html:Join us for some good vibes and live music in the garden at Graves Library. In July and August\, we are hosting four evenings of music performed by local musicians just for you. Bring your friends\, bring your chair\, sit back\, tap your feet\, and listen to some local beat. Let&rsquo\;s celebrate summer\, our community\, and our fondness for talented artists right in our own back yard! These events are all weather dependent. Tuesday\, July 26 @ 6:00 pm Don Wessel and Lisa Mills (electric guitar and vocals &ndash\; a whole lot of mixing it up) &ndash\; Don and Lisa play as The Ocean Ave Band (www.facebook/Oceanaveband)
LOCATION:The Louis T. Graves Memorial Public Library 18 Maine Street\, Kennebunkport\, ME 04046 Parking is available on Maine Street or at Consolidated School.
UID:e.1923.17376
SEQUENCE:3
DTSTAMP:20260419T192438Z
URL:https://chamber.gokennebunks.com/events/details/summer-music-series-at-the-graves-library-07-26-2022-17376
END:VEVENT

END:VCALENDAR
