BEGIN:VCALENDAR
VERSION:2.0
PRODID:-//ChamberMaster//Event Calendar 2.0//EN
METHOD:PUBLISH
X-PUBLISHED-TTL:P3D
REFRESH-INTERVAL:P3D
CALSCALE:GREGORIAN
BEGIN:VEVENT
DTSTART:20220718T220000Z
DTEND:20220718T233000Z
X-MICROSOFT-CDO-ALLDAYEVENT:FALSE
SUMMARY:Summer Music Series at the Graves Library
DESCRIPTION:Join us for some good vibes and live music in the garden at Graves Library. In July and August\, we are hosting four evenings of music performed by local musicians just for you. Bring your friends\, bring your chair\, sit back\, tap your feet\, and listen to some local beat. Let's celebrate summer\, our community\, and our fondness for talented artists right in our own back yard! These events are all weather dependent. Monday\, July 18 @ 6:00 pm Michael Corleto (blues\, jazz\, and southern rock)   Check out Michael's website at https://michaelcorletomusic.com
X-ALT-DESC;FMTTYPE=text/html:Join us for some good vibes and live music in the garden at Graves Library. In July and August\, we are hosting four evenings of music performed by local musicians just for you. Bring your friends\, bring your chair\, sit back\, tap your feet\, and listen to some local beat. Let&rsquo\;s celebrate summer\, our community\, and our fondness for talented artists right in our own back yard! These events are all weather dependent. Monday\, July 18 @ 6:00 pm Michael Corleto (blues\, jazz\, and southern rock) &ndash\; Check out Michael&rsquo\;s website at https://michaelcorletomusic.com
LOCATION:The Louis T. Graves Memorial Public Library 18 Maine Street\, Kennebunkport\, ME 04046 Parking is available on Maine Street or at Consolidated School.
UID:e.1923.17375
SEQUENCE:3
DTSTAMP:20260419T175939Z
URL:https://chamber.gokennebunks.com/events/details/summer-music-series-at-the-graves-library-07-18-2022-17375
END:VEVENT

END:VCALENDAR
