BEGIN:VCALENDAR
VERSION:2.0
PRODID:-//ChamberMaster//Event Calendar 2.0//EN
METHOD:PUBLISH
X-PUBLISHED-TTL:P3D
REFRESH-INTERVAL:P3D
CALSCALE:GREGORIAN
BEGIN:VEVENT
DTSTART:20230730T180000Z
DTEND:20230730T200000Z
X-MICROSOFT-CDO-ALLDAYEVENT:FALSE
SUMMARY:Summer fun in the Victory Garden!
DESCRIPTION:Join the Brick Store Museum on July 30th for a fun and free family event.  Learn about victory gardens with a theatrical twist.  There will be garden tours and tasting as well as an opportunity for children to make their own Victory Garden.
X-ALT-DESC;FMTTYPE=text/html:<span style="color:rgb(20\, 24\, 39)\; font-family:helvetica neue\,helvetica\,-apple-system\,blinkmacsystemfont\,roboto\,arial\,sans-serif\; font-size:18px">Join the Brick Store Museum on July 30th for a fun and free family event.&nbsp\; Learn about victory gardens with a theatrical twist.&nbsp\; There will be garden tours and tasting as well as an opportunity for children to make their own Victory Garden.</span>
LOCATION:Brick Store Museum 117 Main Street Kennebunk\, ME 04043
UID:e.1923.21505
SEQUENCE:3
DTSTAMP:20260422T050346Z
URL:https://chamber.gokennebunks.com/events/details/summer-fun-in-the-victory-garden-21505
END:VEVENT

END:VCALENDAR
