BEGIN:VCALENDAR
VERSION:2.0
PRODID:-//ChamberMaster//Event Calendar 2.0//EN
METHOD:PUBLISH
X-PUBLISHED-TTL:P3D
REFRESH-INTERVAL:P3D
CALSCALE:GREGORIAN
BEGIN:VEVENT
DTSTART:20240816T130000Z
DTEND:20240818T080000Z
X-MICROSOFT-CDO-ALLDAYEVENT:FALSE
SUMMARY:Summer Drawing Bootcamp for Beginners and Intermediate Students with Jack Brumbaugh at Arundel Farm Gallery
DESCRIPTION:This workshop is available as a 2-Day or 3-Day workshop.  Students will be work with different materials and be led through a series of various exercises.  This is a great workshop for those who have always wanted to learn to draw and also those who wish to develop their drawing skills but need the instruction and guidance to continue on a path of increasing skills.  Students will learn the fundamentals for beginning drawing and will also challenge those students with some drawing experience.  No previous experience is needed for this workshop.  \n\n\n\nJack Brumbaugh is a visual artist from Maryland who spends some time here in Maine at his family camp.  He is best known for his beautiful oil pastel drawings.  He exhibits his work nationally in art fairs and galleries and is collected widely throughout the United States and abroad.
X-ALT-DESC;FMTTYPE=text/html:This workshop is available as a 2-Day or 3-Day workshop.&nbsp\; Students will be work with different materials and be led through a series of various exercises.&nbsp\; This is a great workshop for those who have always wanted to learn to draw and also those who wish to develop their drawing skills but need the instruction and guidance to continue on a path of increasing skills.&nbsp\; Students will learn the fundamentals for beginning drawing and will also challenge those students with some drawing experience.&nbsp\; No previous experience is needed for this workshop.&nbsp\;&nbsp\;<br />\n<br />\nJack Brumbaugh is a visual artist from Maryland who spends some time here in Maine at his family camp.&nbsp\; He is best known for his beautiful oil pastel drawings.&nbsp\; He exhibits his work nationally in art fairs and galleries and is collected widely throughout the United States and abroad.&nbsp\;&nbsp\;<br />\n&nbsp\;
LOCATION:Arundel Farm Gallery\, 76 Arundel Road\, Arundel\, Maine 04046
UID:e.1923.25265
SEQUENCE:3
DTSTAMP:20260421T124329Z
URL:https://chamber.gokennebunks.com/events/details/summer-drawing-bootcamp-for-beginners-and-intermediate-students-with-jack-brumbaugh-at-arundel-farm-gallery-25265
END:VEVENT

END:VCALENDAR
