BEGIN:VCALENDAR
VERSION:2.0
PRODID:-//ChamberMaster//Event Calendar 2.0//EN
METHOD:PUBLISH
X-PUBLISHED-TTL:P3D
REFRESH-INTERVAL:P3D
CALSCALE:GREGORIAN
BEGIN:VEVENT
DTSTART:20230618T000000Z
DTEND:20230618T020000Z
X-MICROSOFT-CDO-ALLDAYEVENT:FALSE
SUMMARY:Studio Two - The Early Years Beatles Tribute
DESCRIPTION:Studio Two is a headlining Beatles tribute band\, featuring Berklee Alum who focus on the most exciting\, energetic period of The Beatles -- the early years (1962 - 1966). Choosing from a catalog of number one hit songs from their club and touring performances\, Studio Two captures all of the excitement and danceable 50's and 60's Rock 'n' Roll songs The Beatles helped popularize. All of this is done in period correct attire and equipment. You will be transported in time!
X-ALT-DESC;FMTTYPE=text/html:<span style="background-color:rgb(36\, 37\, 38)\; color:rgb(228\, 230\, 235)\; font-family:segoe ui historic\,segoe ui\,helvetica\,arial\,sans-serif\; font-size:15px">Studio Two is a headlining Beatles tribute band\, featuring Berklee Alum who focus on the most exciting\, energetic period of The Beatles -- the early years (1962 - 1966). Choosing from a catalog of number one hit songs from their club and touring performances\, Studio Two captures all of the excitement and danceable 50&#39\;s and 60&#39\;s Rock &#39\;n&#39\; Roll songs The Beatles helped popularize. All of this is done in period correct attire and equipment. You will be transported in time!</span>
LOCATION:Vinegar Hill Music Theatre 53 Old Post Road Arundel\, Maine 04046 Tel: 207-985-5552
UID:e.1923.18405
SEQUENCE:3
DTSTAMP:20260422T075219Z
URL:https://chamber.gokennebunks.com/events/details/studio-two-the-early-years-beatles-tribute-06-17-2023-18405
END:VEVENT

END:VCALENDAR
