BEGIN:VCALENDAR
VERSION:2.0
PRODID:-//ChamberMaster//Event Calendar 2.0//EN
METHOD:PUBLISH
X-PUBLISHED-TTL:P3D
REFRESH-INTERVAL:P3D
CALSCALE:GREGORIAN
BEGIN:VEVENT
DTSTART:20191006T000000Z
DTEND:20191006T020000Z
X-MICROSOFT-CDO-ALLDAYEVENT:FALSE
SUMMARY:Studio Two - The Early Beatles Tribute
DESCRIPTION:Studio Two is a headlining Beatles tribute band that focuses on the most exciting\, energetic period of The Beatles the early years. Choosing from a catalog of songs from their club and touring performances\, Studio Two captures all of the excitement and danceable 50's and 60's Rock 'n' Roll songs The Beatles helped popularize. All of this is done in period correct attire and equipment. You will be transported in time!
X-ALT-DESC;FMTTYPE=text/html:Studio Two is a headlining Beatles tribute band that focuses on the most exciting\, energetic period of The Beatles&mdash\;the early years. Choosing from a catalog of songs from their club and touring performances\, Studio Two captures all of the excitement and danceable 50&rsquo\;s and 60&rsquo\;s Rock &lsquo\;n&rsquo\; Roll songs The Beatles helped popularize. All of this is done in period correct attire and equipment. You will be transported in time!
LOCATION:Vinegar Hill Music Theatre 53 Old Post Rd. Arundel\, ME 04046
UID:e.1923.13063
SEQUENCE:3
DTSTAMP:20260424T141337Z
URL:https://chamber.gokennebunks.com/events/details/studio-two-the-early-beatles-tribute-13063
END:VEVENT

END:VCALENDAR
