BEGIN:VCALENDAR
VERSION:2.0
PRODID:-//ChamberMaster//Event Calendar 2.0//EN
METHOD:PUBLISH
X-PUBLISHED-TTL:P3D
REFRESH-INTERVAL:P3D
CALSCALE:GREGORIAN
BEGIN:VEVENT
DTSTART:20240407T180000Z
DTEND:20240407T190000Z
X-MICROSOFT-CDO-ALLDAYEVENT:FALSE
SUMMARY:Student-Centered High School Open House
DESCRIPTION:The New School welcomes you to an open house event! If you are looking for a progressive\, independent high school experience that provides a unique\, student-driven\, democratic learning environment for your teenage learner\, we're more than happy to answer your questions. On Sunday\, April 7th\, we'll be here from 2-3 PM. Drop in to see what The New School is all about or join us online. (Online login information is at tnsk.org)
X-ALT-DESC;FMTTYPE=text/html:The New School welcomes you to an open house event! If you are looking for a progressive\, independent high school experience that provides a unique\, student-driven\, democratic learning environment for your teenage learner\, we&rsquo\;re more than happy to answer your questions. On Sunday\, April 7th\, we&rsquo\;ll be here from 2-3 PM. Drop in to see what The New School is all about or join us online. (Online login information is at tnsk.org)
LOCATION:The New School 38 York Street Kennebunk
UID:e.1923.24610
SEQUENCE:3
DTSTAMP:20260421T163904Z
URL:https://chamber.gokennebunks.com/events/details/student-centered-high-school-open-house-24610
END:VEVENT

END:VCALENDAR
