BEGIN:VCALENDAR
VERSION:2.0
PRODID:-//ChamberMaster//Event Calendar 2.0//EN
METHOD:PUBLISH
X-PUBLISHED-TTL:P3D
REFRESH-INTERVAL:P3D
CALSCALE:GREGORIAN
BEGIN:VEVENT
DTSTART:20180809T230000Z
DTEND:20180810T010000Z
X-MICROSOFT-CDO-ALLDAYEVENT:FALSE
SUMMARY:Strategizing Sea Level Rise
DESCRIPTION:Presentation by Gayle Bowness\, Gulf of Maine Research Institute. Panel perspectives and public discourse as well. Don't miss the chance to be part of the planning and conversation.
X-ALT-DESC;FMTTYPE=text/html:Presentation by Gayle Bowness\, Gulf of Maine Research Institute. Panel perspectives and public discourse as well. Don&#39\;t miss the chance to be part of the planning and conversation.
LOCATION:Kennebunk Town Hall
UID:e.1923.9967
SEQUENCE:3
DTSTAMP:20260425T115736Z
URL:https://chamber.gokennebunks.com/events/details/strategizing-sea-level-rise-9967
END:VEVENT

END:VCALENDAR
