BEGIN:VCALENDAR
VERSION:2.0
PRODID:-//ChamberMaster//Event Calendar 2.0//EN
METHOD:PUBLISH
X-PUBLISHED-TTL:P3D
REFRESH-INTERVAL:P3D
CALSCALE:GREGORIAN
BEGIN:VEVENT
DTSTART:20231203T000000Z
DTEND:20231203T020000Z
X-MICROSOFT-CDO-ALLDAYEVENT:FALSE
SUMMARY:STRAFFORD WIND SYMPHONY’S HOLIDAY POPS!
DESCRIPTION:Celebrate the most wonderful time of the year with the Strafford Wind Symphony at the SPAC! You'll feel the magic of the season with this sparkling parade of favorite holiday songs the whole family will love.  The show would be incomplete without the customary sing-along\, so prepare to join in when the moment arrives. With a robust membership of 55 musicians\, the Strafford Wind Symphony has solidified a reputation for excellence in Southern Maine and Seacoast New Hampshire. The ensemble delivers sensational music with a professional flair. $13-$15
X-ALT-DESC;FMTTYPE=text/html:<span style="background-color:transparent\; color:rgb(0\, 0\, 0)\; font-family:trebuchet ms\,sans-serif\; font-size:11pt">Celebrate the most wonderful time of the year with the Strafford Wind Symphony at the SPAC! You&rsquo\;ll feel the magic of the season with this sparkling parade of favorite holiday songs the whole family will love.&nbsp\; The show would be incomplete without the customary sing-along\, so prepare to join in when the moment arrives. With a robust membership of 55 musicians\, the Strafford Wind Symphony has solidified a reputation for excellence in Southern Maine and Seacoast New Hampshire. The ensemble delivers sensational music with a professional flair. $13-$15</span>
LOCATION:Sanford Performing Arts Center\, 100 Alumni Blvd.\, Sanford
UID:e.1923.22525
SEQUENCE:3
DTSTAMP:20260421T232201Z
URL:https://chamber.gokennebunks.com/events/details/strafford-wind-symphony-s-holiday-pops-12-02-2023-22525
END:VEVENT

END:VCALENDAR
