BEGIN:VCALENDAR
VERSION:2.0
PRODID:-//ChamberMaster//Event Calendar 2.0//EN
METHOD:PUBLISH
X-PUBLISHED-TTL:P3D
REFRESH-INTERVAL:P3D
CALSCALE:GREGORIAN
BEGIN:VEVENT
DTSTART:20230827T190000Z
DTEND:20230827T210000Z
X-MICROSOFT-CDO-ALLDAYEVENT:FALSE
SUMMARY:STORYTELLERS SOIRÉE: LOCAL PEOPLE\, TRUE STORIES
DESCRIPTION:Storytellers Soir e: Local People\, True Stories Join City Theater and Biddeford Adult Education for a soir e of storytelling. Featuring local people from near and from away\, we invite you to listen live to the true stories of Community - our theme for the event. You might laugh\, you'll probably cry\, and you'll certainly learn something new about the people who live and work around you every day. Who knows? You might even make a new friend! Seating is General Admission\, and tickets are only $10. All proceeds will be donated to Catholic Charities\, who work every day to foster community. We will have concessions for sale\, including locally-crafted adult beverages. So join us on August 27th from 3-5 PM. Who doesn't love a good story?
X-ALT-DESC;FMTTYPE=text/html:Storytellers Soir&eacute\;e: Local People\, True Stories Join City Theater and Biddeford Adult Education for a soir&eacute\;e of storytelling. Featuring local people from near and from away\, we invite you to listen live to the true stories of Community - our theme for the event. You might laugh\, you&rsquo\;ll probably cry\, and you&rsquo\;ll certainly learn something new about the people who live and work around you every day. Who knows? You might even make a new friend! Seating is General Admission\, and tickets are only $10. All proceeds will be donated to Catholic Charities\, who work every day to foster community. We will have concessions for sale\, including locally-crafted adult beverages. So join us on August 27th from 3-5 PM. Who doesn&rsquo\;t love a good story?
LOCATION:205 Main Street Biddeford\, ME 04005
UID:e.1923.22424
SEQUENCE:3
DTSTAMP:20260422T045925Z
URL:https://chamber.gokennebunks.com/events/details/storytellers-soir&#233;e-local-people-true-stories-22424
END:VEVENT

END:VCALENDAR
