BEGIN:VCALENDAR
VERSION:2.0
PRODID:-//ChamberMaster//Event Calendar 2.0//EN
METHOD:PUBLISH
X-PUBLISHED-TTL:P3D
REFRESH-INTERVAL:P3D
CALSCALE:GREGORIAN
BEGIN:VEVENT
DTSTART:20250719T180000Z
DTEND:20250719T190000Z
X-MICROSOFT-CDO-ALLDAYEVENT:FALSE
SUMMARY:Stories That Built Early America Series: Women's Work
DESCRIPTION:Brick Store Museum\, 117 Main Street\, Kennebunk.\n\nIn celebration of the Brick Store Museum's 200th anniversary\, join us for a special summer lecture series exploring the everyday lives\, choices\, and challenges that shaped early America. On July 19th\, we'll focus on Women's Work in the Days of Hearth Cooking. This three-part series highlights the people and experiences that laid the foundation for the nation and for the community that became Kennebunk. Free admission\, donations gratefully accepted!\n\nVisit www.brickstoremuseum.org/calendar.
X-ALT-DESC;FMTTYPE=text/html:Brick Store Museum\, 117 Main Street\, Kennebunk.<br />\nIn celebration of the Brick Store Museum&rsquo\;s 200th anniversary\, join us for a special summer lecture series exploring the everyday lives\, choices\, and challenges that shaped early America. On July 19<sup>th</sup>\, we&rsquo\;ll focus on Women&rsquo\;s Work in the Days of Hearth Cooking. This three-part series highlights the people and experiences that laid the foundation for the nation&mdash\;and for the community that became Kennebunk. Free admission\, donations gratefully accepted!<br />\nVisit <a href="http://www.brickstoremuseum.org/"><span style="color:windowtext">www.brickstoremuseum.org</span></a>/calendar.
LOCATION:Brick Store Museum
UID:e.1923.37618
SEQUENCE:3
DTSTAMP:20260421T073827Z
URL:https://chamber.gokennebunks.com/events/details/stories-that-built-early-america-series-women-s-work-37618
END:VEVENT

END:VCALENDAR
