BEGIN:VCALENDAR
VERSION:2.0
PRODID:-//ChamberMaster//Event Calendar 2.0//EN
METHOD:PUBLISH
X-PUBLISHED-TTL:P3D
REFRESH-INTERVAL:P3D
CALSCALE:GREGORIAN
BEGIN:VEVENT
DTSTART:20230318T180000Z
DTEND:20230318T200000Z
X-MICROSOFT-CDO-ALLDAYEVENT:FALSE
SUMMARY:St. Patrick's Day Cocktails
DESCRIPTION:Join us at The Burleigh as we explore some of our favorite Irish inspired cocktails. We'll be meeting up the day after St. Patrick's day for a unique mixology class with Irish inspired light snacks. Class is open to 21+. Parking available off-site at the Dock Square parking lot next door to Kennebunkport Inn.
X-ALT-DESC;FMTTYPE=text/html:Join us at The Burleigh as we explore some of our favorite Irish inspired cocktails. We&#39\;ll be meeting up the day after St. Patrick&#39\;s day for a unique mixology class with Irish inspired light snacks. Class is open to 21+. Parking available off-site at the Dock Square parking lot next door to Kennebunkport Inn.
LOCATION:The Burleigh 1 Dock Square Kennebunkport\, ME 04046
UID:e.1923.18484
SEQUENCE:3
DTSTAMP:20260424T101021Z
URL:https://chamber.gokennebunks.com/events/details/st-patrick-s-day-cocktails-18484
END:VEVENT

END:VCALENDAR
