BEGIN:VCALENDAR
VERSION:2.0
PRODID:-//ChamberMaster//Event Calendar 2.0//EN
METHOD:PUBLISH
X-PUBLISHED-TTL:P3D
REFRESH-INTERVAL:P3D
CALSCALE:GREGORIAN
BEGIN:VEVENT
DTSTART:20240311T220000Z
DTEND:20240312T000000Z
X-MICROSOFT-CDO-ALLDAYEVENT:FALSE
SUMMARY:St. Paddy's Day Irish Whiskey Tasting
DESCRIPTION:Get ready for St. Paddy's Day and join Certified Whiskey Ambassador\, Michael Nugent\, of the Perfect Dram\, for a fun and informative testing of 4 Irish Whiskeys. Ticket includes entry\, appetizers\, and whiskey tasting.
X-ALT-DESC;FMTTYPE=text/html:Get ready for St. Paddy&#39\;s Day and join Certified Whiskey Ambassador\, Michael Nugent\, of the Perfect Dram\, for a fun and informative testing of 4 Irish Whiskeys. Ticket includes entry\, appetizers\, and whiskey tasting.&nbsp\;
LOCATION:Ryan's Corner House Irish Pub 17 Western Ave.\, Kennebunk
UID:e.1923.24387
SEQUENCE:3
DTSTAMP:20260421T180517Z
URL:https://chamber.gokennebunks.com/events/details/st-paddy-s-day-irish-whiskey-tasting-24387
END:VEVENT

END:VCALENDAR
