BEGIN:VCALENDAR
VERSION:2.0
PRODID:-//ChamberMaster//Event Calendar 2.0//EN
METHOD:PUBLISH
X-PUBLISHED-TTL:P3D
REFRESH-INTERVAL:P3D
CALSCALE:GREGORIAN
BEGIN:VEVENT
DTSTART:20231104T130000Z
DTEND:20231104T180000Z
X-MICROSOFT-CDO-ALLDAYEVENT:FALSE
SUMMARY:St. David's Harvest Fair
DESCRIPTION:St. David's (Route 1\, Kennebunk)\, is holding its Annual Harvest Fair on Saturday\, November 4 from 9AM-2PM. The fair will offer the same wonderful tables as before: Silent auction\, themed gift baskets for raffle\, treasures\, jewelry\, homemade baked and frozen goods\, handmade crafts\, and lunch provided by area award winning restaurants.  Cash and local checks only. Mark your calendars. You don't want to miss this!  FMI:  985-3073
X-ALT-DESC;FMTTYPE=text/html:<span style="font-family:times new roman\,serif"><span style="font-size:16.0pt">St. David&rsquo\;s (Route 1\, Kennebunk)\, is holding its Annual Harvest Fair on Saturday\, November 4 from 9AM-2PM. The fair will offer the same wonderful tables as before: Silent auction\, themed gift baskets for raffle\, treasures\, jewelry\, homemade baked and frozen goods\, handmade crafts\, and lunch provided by area award winning restaurants.&nbsp\; Cash and local checks only. Mark your calendars. You don&rsquo\;t want to miss this!&nbsp\; FMI:&nbsp\; 985-3073&nbsp\; </span></span><br />\n&nbsp\;<br />\n&nbsp\;<br />\n&nbsp\;
LOCATION:St. David's Episcopal Church\, 138 York Street (Rt. 1\, South\, just before the Wells town line)\, Kennebunk
UID:e.1923.23079
SEQUENCE:3
DTSTAMP:20260421T232556Z
URL:https://chamber.gokennebunks.com/events/details/st-david-s-harvest-fair-11-04-2023-23079
END:VEVENT

END:VCALENDAR
