BEGIN:VCALENDAR
VERSION:2.0
PRODID:-//ChamberMaster//Event Calendar 2.0//EN
METHOD:PUBLISH
X-PUBLISHED-TTL:P3D
REFRESH-INTERVAL:P3D
CALSCALE:GREGORIAN
BEGIN:VEVENT
DTSTART;VALUE=DATE:20180818
DTEND;VALUE=DATE:20180819
TRANSP:TRANSPARENT
X-MICROSOFT-CDO-ALLDAYEVENT:TRUE
SUMMARY:Spurling Charity 5k
DESCRIPTION:Join us for a fun 5k open to the public for all levels - walk\, jog or run! All proceeds benefit A Place to Start in Kennebunk.
X-ALT-DESC;FMTTYPE=text/html:Join us for a fun 5k open to the public for all levels - walk\, jog or run! All proceeds benefit A Place to Start in Kennebunk.
LOCATION:1 Alewive Park Road\, Kennebunk\, ME 04043
UID:e.1923.11373
SEQUENCE:3
DTSTAMP:20260425T115917Z
URL:https://chamber.gokennebunks.com/events/details/spurling-charity-5k-11373
END:VEVENT

END:VCALENDAR
