BEGIN:VCALENDAR
VERSION:2.0
PRODID:-//ChamberMaster//Event Calendar 2.0//EN
METHOD:PUBLISH
X-PUBLISHED-TTL:P3D
REFRESH-INTERVAL:P3D
CALSCALE:GREGORIAN
BEGIN:VEVENT
DTSTART:20190427T140000Z
DTEND:20190427T180000Z
X-MICROSOFT-CDO-ALLDAYEVENT:FALSE
SUMMARY:Spring Up & Pass Down Day
DESCRIPTION:Are you ready for spring time? Have you been looking at all of those unused items in your closet and basement? Do you wish that you had more time to find good homes for some of your things that could benefit others?\n\n\n\nThe Museum knows what it's like to professionally organize your things. That's our job! So let us help you\, in return for your support.\n\n\n\nThe Museum's Spring Up & Pass Down Day offers two activities:\n\n1) Pass Down Day Yard Sale:\n\n\n\nDrop by the Brick Store Museum from 10:00am - 2:00pm on April 27th to browse a unique assortment of yardsale items from both the Museum and the community of Kennebunk. \n\n\n\nBring gently used items (i.e. antiques\; great/like-new clothing\; functioning children's toys\; unneeded plants and bulbs) that you think someone else will appreciate to our indoor Pass Down Day (like a yard sale!). If you put your full name on your items (using masking tape)\, you'll receive 50% of the profits of your sold items. If you choose that you'd like the museum to receive the full sale price\, that is wonderful\, too!\n\n\n\nITEMS MUST BE DROPPED OFF AT THE MUSEUM (and paperwork filled out) prior to Wednesday\, April 24th. ITEMS MUST BE PICKED UP AFTER THE EVENT\, unless otherwise specified. Items held for more then one week may be destroyed.\n\n\n\n2) Spring Into Action & Stuff the Dumpster:\n\nIf you don't have items to pass down\, then here's another option: We've got a dumpster! Donate $25 or more and throw away those things that have been hanging around for too long (and support the Museum while doing so!).\n\n\n\nMore information is located on the BSM website at http://www.brickstoremuseum.org/events/spring-pass-day/.
X-ALT-DESC;FMTTYPE=text/html:Are you ready for spring time? Have you been looking at all of those unused items in your closet and basement? Do you wish that you had more time to find good homes for some of your things that could benefit others?<br />\n<br />\nThe Museum knows what it&rsquo\;s like to professionally organize your things. That&rsquo\;s our job! So let us help you\, in return for your support.<br />\n<br />\nThe Museum&rsquo\;s Spring Up &amp\; Pass Down Day offers two activities:<br />\n1) Pass Down Day Yard Sale:<br />\n<br />\nDrop by the Brick Store Museum from 10:00am - 2:00pm on April 27th to browse a unique assortment of yardsale items from both the Museum and the community of Kennebunk.&nbsp\;<br />\n<br />\nBring gently used items (i.e. antiques\; great/like-new clothing\; functioning children&rsquo\;s toys\; unneeded plants and bulbs) that you think someone else will appreciate to our indoor Pass Down Day (like a yard sale!). If you put your full name on your items (using masking tape)\, you&rsquo\;ll receive 50% of the profits of your sold items. If you choose that you&rsquo\;d like the museum to receive the full sale price\, that is wonderful\, too!<br />\n<br />\nITEMS MUST BE DROPPED OFF AT THE MUSEUM (and paperwork filled out) prior to Wednesday\, April 24th. ITEMS MUST BE PICKED UP AFTER THE EVENT\, unless otherwise specified. Items held for more then one week may be destroyed.<br />\n<br />\n2) Spring Into Action &amp\; Stuff the Dumpster:<br />\nIf you don&rsquo\;t have items to pass down\, then here&rsquo\;s another option: We&rsquo\;ve got a dumpster! Donate $25 or more and throw away those things that have been hanging around for too long (and support the Museum while doing so!).<br />\n<br />\nMore information is located on the BSM website at http://www.brickstoremuseum.org/events/spring-pass-day/.&nbsp\;
LOCATION:Brick Store Museum 117 Main Street Kennebunk\, Maine 04043
UID:e.1923.13135
SEQUENCE:3
DTSTAMP:20260424T222333Z
URL:https://chamber.gokennebunks.com/events/details/spring-up-pass-down-day-13135
END:VEVENT

END:VCALENDAR
