BEGIN:VCALENDAR
VERSION:2.0
PRODID:-//ChamberMaster//Event Calendar 2.0//EN
METHOD:PUBLISH
X-PUBLISHED-TTL:P3D
REFRESH-INTERVAL:P3D
CALSCALE:GREGORIAN
BEGIN:VEVENT
DTSTART:20250320T200000Z
DTEND:20250320T210000Z
X-MICROSOFT-CDO-ALLDAYEVENT:FALSE
SUMMARY:spring equinox - 108 sun salutations
DESCRIPTION:head into spring with heat\, dedication + strength. celebrate the spring equinox by flowing through 108 sun salutations. guided by your own breath\, you can go at your own pace\, feeling your mind + body sync as you move. this cardio + mental challenge will leave you feeling invigorated + your hamstrings will remind you about it all week long.\n\n\n\nWhy 108? The number 108 is sacred and significant in many ways\, appearing in many disciplines from astronomy to yoga:\n\n- The number 108 appears in ancient\, sacred texts. For example\, there are 108 Upanishads and 108 Tantras\n\n- In numerology\, 108 equals 9\, which symbolizes universal love\, eternity and awakening\n\n- In Ayurveda\, there are 108 sacred points on the body\n\n- In astronomy\, the distance between the Sun and Earth is roughly 108 times the Sun's diameter\n\n- Mala bead necklaces have 108 beads\, which are used to count during meditation\n\n\n\njoin us for this moving meditation for just $22 drop in\, included with membership. reserve your spot at thedailysweatkennebunk.com
X-ALT-DESC;FMTTYPE=text/html:head into spring with heat\, dedication + strength. celebrate the spring equinox by flowing through 108 sun salutations. guided by your own breath\, you can go at your own pace\, feeling your mind + body sync as you move. this cardio + mental challenge will leave you feeling invigorated + your hamstrings will remind you about it all week long.<br />\n<br />\nWhy 108? The number 108 is sacred and significant in many ways\, appearing in many disciplines from astronomy to yoga:<br />\n- The number 108 appears in ancient\, sacred texts. For example\, there are 108 Upanishads and 108 Tantras<br />\n- In numerology\, 108 equals 9\, which symbolizes universal love\, eternity and awakening<br />\n- In Ayurveda\, there are 108 sacred points on the body<br />\n- In astronomy\, the distance between the Sun and Earth is roughly 108 times the Sun&rsquo\;s diameter<br />\n- Mala bead necklaces have 108 beads\, which are used to count during meditation<br />\n<br />\njoin us for this moving meditation for just $22 drop in\, included with membership. reserve your spot at thedailysweatkennebunk.com&nbsp\;
LOCATION:The Daily Sweat
UID:e.1923.33247
SEQUENCE:3
DTSTAMP:20260420T230145Z
URL:https://chamber.gokennebunks.com/events/details/spring-equinox-108-sun-salutations-33247
END:VEVENT

END:VCALENDAR
