BEGIN:VCALENDAR
VERSION:2.0
PRODID:-//ChamberMaster//Event Calendar 2.0//EN
METHOD:PUBLISH
X-PUBLISHED-TTL:P3D
REFRESH-INTERVAL:P3D
CALSCALE:GREGORIAN
BEGIN:VEVENT
DTSTART:20230422T180000Z
DTEND:20230422T200000Z
X-MICROSOFT-CDO-ALLDAYEVENT:FALSE
SUMMARY:Spring Cocktail Mixology Class at Earth
DESCRIPTION:Learn how to prepare classic cocktails with our team of skilled bartenders. From infusing liquors with farm-fresh ingredients from our gardens\, to dehydrating fruit wheels for garnish\, to making delicious shrubs\, Earth at Hidden Pond's cocktails are some of the best around!\n\nMake a night of it and secure a dinner reservation at Earth after the class!\n\nThe class is open to adults 21 years of age or older. Proper ID is required at door. We look forward to seeing you.
X-ALT-DESC;FMTTYPE=text/html:<p>Learn how to prepare classic cocktails with our team of skilled bartenders. From infusing liquors with farm-fresh ingredients from our gardens\, to dehydrating fruit wheels for garnish\, to making delicious shrubs\, Earth at Hidden Pond&rsquo\;s cocktails are some of the best around!</p>\n\n<p><a href="https://www.opentable.com/r/earth-at-hidden-pond-reservations-kennebunkport?restref=85798&amp\;lang=en-US&amp\;ot_source=Restaurant%20website" rel="nofollow noopener noreferrer" style="background-color: transparent\; text-decoration-line: none\; color: rgb(54\, 89\, 227)\; cursor: pointer\; box-sizing: border-box\; padding-top: 0px\;" target="_blank">Make a night of it and secure a dinner reservation at Earth after the class!</a></p>\n\n<p><em>The class is open to adults 21 years of age or older. Proper ID is required at door. We look forward to seeing you.</em></p>\n
LOCATION:Earth at Hidden Pond 354 Goose Rocks Road Kennebunkport\, ME 04046
UID:e.1923.18997
SEQUENCE:3
DTSTAMP:20260424T112724Z
URL:https://chamber.gokennebunks.com/events/details/spring-cocktail-mixology-class-at-earth-04-22-2023-18997
END:VEVENT

END:VCALENDAR
