BEGIN:VCALENDAR
VERSION:2.0
PRODID:-//ChamberMaster//Event Calendar 2.0//EN
METHOD:PUBLISH
X-PUBLISHED-TTL:P3D
REFRESH-INTERVAL:P3D
CALSCALE:GREGORIAN
BEGIN:VEVENT
DTSTART:20230408T180000Z
DTEND:20230408T200000Z
X-MICROSOFT-CDO-ALLDAYEVENT:FALSE
SUMMARY:Spring Cocktail Mixology at Ocean
DESCRIPTION:Learn how to prepare classic cocktails with our team of skilled bartenders. Ocean's cocktails are designed to match the restaurant's elevated ocean side dining experience. You'll learn to craft classic cocktails with a modern twist at Cape Arundel Inn & Resort's restaurant\, Ocean.
X-ALT-DESC;FMTTYPE=text/html:Learn how to prepare classic cocktails with our team of skilled bartenders. Ocean&#39\;s cocktails are designed to match the restaurant&#39\;s elevated ocean side dining experience. You&#39\;ll learn to craft classic cocktails with a modern twist at Cape Arundel Inn &amp\; Resort&#39\;s restaurant\, Ocean.
LOCATION:Ocean at Cape Arundel Inn & Resort 208 Ocean Ave Kennebunkport\, ME 04046
UID:e.1923.18984
SEQUENCE:3
DTSTAMP:20260422T032127Z
URL:https://chamber.gokennebunks.com/events/details/spring-cocktail-mixology-at-ocean-18984
END:VEVENT

END:VCALENDAR
