BEGIN:VCALENDAR
VERSION:2.0
PRODID:-//ChamberMaster//Event Calendar 2.0//EN
METHOD:PUBLISH
X-PUBLISHED-TTL:P3D
REFRESH-INTERVAL:P3D
CALSCALE:GREGORIAN
BEGIN:VEVENT
DTSTART:20260420T140000Z
DTEND:20260424T160000Z
X-MICROSOFT-CDO-ALLDAYEVENT:FALSE
SUMMARY:Spring Break at the Museum!
DESCRIPTION:Visit the Ogunquit Museum of American Art all week for fun spring break activities! Enjoy a cyanotype workshop\, an Earth Day celebration with the Great Works Land Trust\, drop-in art detective activities\, and more. Check out the Museum's event page for more details.
X-ALT-DESC;FMTTYPE=text/html:Visit the Ogunquit Museum of American Art all week for fun spring break activities! Enjoy a cyanotype workshop\, an Earth Day celebration with the Great Works Land Trust\, drop-in art detective activities\, and more. Check out the Museum&#39\;s event page for more details.
LOCATION:543 Shore Road Ogunquit\, ME 03907
UID:e.1923.39035
SEQUENCE:3
DTSTAMP:20260421T185839Z
URL:https://chamber.gokennebunks.com/events/details/spring-break-at-the-museum-39035
END:VEVENT

END:VCALENDAR
