BEGIN:VCALENDAR
VERSION:2.0
PRODID:-//ChamberMaster//Event Calendar 2.0//EN
METHOD:PUBLISH
X-PUBLISHED-TTL:P3D
REFRESH-INTERVAL:P3D
CALSCALE:GREGORIAN
BEGIN:VEVENT
DTSTART:20180428T203000Z
DTEND:20180428T220000Z
X-MICROSOFT-CDO-ALLDAYEVENT:FALSE
SUMMARY:Spring Baked Bean Supper
DESCRIPTION:Bean Supper- 2 kinds of beans\, mac-cheese\, hot dogs\, coleslaw\, rolls\, drinks\, homemade desserts- Historical displays and raffles
X-ALT-DESC;FMTTYPE=text/html:Bean Supper- 2 kinds of beans\, mac-cheese\, hot dogs\, coleslaw\, rolls\, drinks\, homemade desserts- Historical displays and raffles
LOCATION:M.L.Day School Gym- Limerick Road\, Arundel
UID:e.1923.6996
SEQUENCE:3
DTSTAMP:20260425T170421Z
URL:https://chamber.gokennebunks.com/events/details/spring-baked-bean-supper-6996
END:VEVENT

END:VCALENDAR
