BEGIN:VCALENDAR
VERSION:2.0
PRODID:-//ChamberMaster//Event Calendar 2.0//EN
METHOD:PUBLISH
X-PUBLISHED-TTL:P3D
REFRESH-INTERVAL:P3D
CALSCALE:GREGORIAN
BEGIN:VEVENT
DTSTART:20190427T203000Z
DTEND:20190427T220000Z
X-MICROSOFT-CDO-ALLDAYEVENT:FALSE
SUMMARY:Spring Baked Bean and Pasta Supper
DESCRIPTION:Benefit Baked Bean and Pasta supper
X-ALT-DESC;FMTTYPE=text/html:Benefit Baked Bean and Pasta supper
LOCATION:M.L.Day School Gym Limerick Road\, Arundel
UID:e.1923.13073
SEQUENCE:3
DTSTAMP:20260424T222538Z
URL:https://chamber.gokennebunks.com/events/details/spring-baked-bean-and-pasta-supper-13073
END:VEVENT

END:VCALENDAR
