BEGIN:VCALENDAR
VERSION:2.0
PRODID:-//ChamberMaster//Event Calendar 2.0//EN
METHOD:PUBLISH
X-PUBLISHED-TTL:P3D
REFRESH-INTERVAL:P3D
CALSCALE:GREGORIAN
BEGIN:VEVENT
DTSTART:20241024T210000Z
DTEND:20241024T233000Z
X-MICROSOFT-CDO-ALLDAYEVENT:FALSE
SUMMARY:Spooky Spa Night at Hidden Pond's Tree Spa
DESCRIPTION:Get ready for a spine-tinglingly rejuvenating experience at our Spooky Spa Night event! Leave your worries at the door and step into a world of relaxation\, delicious food and drinks\, and eerie excitement. This enchanting evening is designed to help you unwind\, pamper yourself\, and indulge in a touch of the supernatural.\n\n?? EVENT HIGHLIGHTS:\n\n?? Mini Spa Services: Immerse yourself in a world of serenity with our array of spa services. From soothing massages to bewitching facials\, our expert therapists will leave you feeling ghoulishly refreshed.\n\n?? Gourmet Delights: Savor a selection of delectable treats and devilishly good drinks. From spooky cocktails to gourmet finger foods\, our culinary delights will tantalize your taste buds.\n\n??? Meditation and Relaxation: Find inner peace as you join our guided meditation session. Allow the gentle whispers of the night to calm your spirit and soothe your soul.\n\n?? Raffles and Goodie Bags: Don't miss your chance to win enchanting prizes in our mysterious raffle or leave with a mystical spa goodie bag!\n\n?? Costume Contest: Come dressed in your most hauntingly elegant attire and compete in our costume contest. Prizes await the most creatively dressed ghouls and ghosts.\n\n?? Tarot Card Readings: Discover what the future holds with our on-site tarot card readers. Unveil the mysteries of your destiny in an atmosphere of enchantment.\n\n?? Atmosphere: The event space will be transformed into a mystical wonderland\, with eerie decorations\, dim candlelight\, and a hint of enchantment in the air.\n\n \n\nTickets include a mini spa service (facial\, back/arm/or hand massage)\, treats and beverages\, take-home goodie bags\, and access to tarot card readings\, meditation\, raffles\, and more!
X-ALT-DESC;FMTTYPE=text/html:<p>Get ready for a spine-tinglingly rejuvenating experience at our Spooky Spa Night event! Leave your worries at the door and step into a world of relaxation\, delicious food and drinks\, and eerie excitement. This enchanting evening is designed to help you unwind\, pamper yourself\, and indulge in a touch of the supernatural.</p>\n\n<p>?? EVENT HIGHLIGHTS:</p>\n\n<p>?? Mini Spa Services: Immerse yourself in a world of serenity with our array of spa services. From soothing massages to bewitching facials\, our expert therapists will leave you feeling ghoulishly refreshed.</p>\n\n<p>?? Gourmet Delights: Savor a selection of delectable treats and devilishly good drinks. From spooky cocktails to gourmet finger foods\, our culinary delights will tantalize your taste buds.</p>\n\n<p>??? Meditation and Relaxation: Find inner peace as you join our guided meditation session. Allow the gentle whispers of the night to calm your spirit and soothe your soul.</p>\n\n<p>?? Raffles and Goodie Bags: Don&#39\;t miss your chance to win enchanting prizes in our mysterious raffle or leave with a mystical spa goodie bag!</p>\n\n<p>?? Costume Contest: Come dressed in your most hauntingly elegant attire and compete in our costume contest. Prizes await the most creatively dressed ghouls and ghosts.</p>\n\n<p>?? Tarot Card Readings: Discover what the future holds with our on-site tarot card readers. Unveil the mysteries of your destiny in an atmosphere of enchantment.</p>\n\n<p>?? Atmosphere: The event space will be transformed into a mystical wonderland\, with eerie decorations\, dim candlelight\, and a hint of enchantment in the air.</p>\n\n<p>&nbsp\;</p>\n\n<p>Tickets include a mini spa service (facial\, back/arm/or hand massage)\, treats and beverages\, take-home goodie bags\, and access to tarot card readings\, meditation\, raffles\, and more!</p>\n
LOCATION:Tree Spa at Hidden Pond 354 Goose Rocks Road Kennebunkport\, Maine 04046
UID:e.1923.29796
SEQUENCE:3
DTSTAMP:20260421T100035Z
URL:https://chamber.gokennebunks.com/events/details/spooky-spa-night-at-hidden-pond-s-tree-spa-29796
END:VEVENT

END:VCALENDAR
