BEGIN:VCALENDAR
VERSION:2.0
PRODID:-//ChamberMaster//Event Calendar 2.0//EN
METHOD:PUBLISH
X-PUBLISHED-TTL:P3D
REFRESH-INTERVAL:P3D
CALSCALE:GREGORIAN
BEGIN:VEVENT
DTSTART:20190705T230000Z
DTEND:20190706T020000Z
X-MICROSOFT-CDO-ALLDAYEVENT:FALSE
SUMMARY:Speakeasy Casino Night!
DESCRIPTION:Join Seashore Trolley Museum as we celebrate our 80th Anniversary with a Speakeasy Casino Night on Friday\, July 5th from 7PM-10PM.\n\n\n\nThe event features something for everyone:\n\n\n\n* Free Casino Entertainment! Chips are included in admission. Blackjack\, Roulette\, Craps and Ultimate Hold ?Em Poker will be available. Learn how to play or show your skills!\n\n\n\n* Winners of games will receive tickets to enter for a chance to win one of several prizes\, including a 7-Night Getaway Voucher\, redeemable at select locations in 33 states and 5 countries!\n\n\n\n* Live Jazz Music all night long\n\n\n\n* Speakeasy photo backdrop with antique automobiles from the period!\n\n\n\n* Cigar Bar by Calabash Cigar Café\n\n\n\n* Watch silent movies sitting on streetcars\n\n\n\n* Hors D?oeuvres and a Cash Bar all night long\n\n\n\n* Beautiful\, Evening Trolley Rides on the Museum?s private heritage railroad!\n\n\n\n* Speakeasy Costumes are encouraged but not required. Come comfortable!\n\n\n\nVIP Tickets also include:\n\n\n\n* An Exclusive Wine Tasting with Brian Petrie\, Bronco Wine\n\n* Drink Tickets\n\n* Double the chips for Casino Entertainment!\n\n\n\nDue to local and state gaming laws\, we ask that all patrons purchase tickets in advance of the event.\n\n\n\nTickets are 100% Tax Deductible. \n\n\n\nTickets are available at: https://trolleymuseum.org/events/purchase-tickets/\n\n\n\nOr reserve your tickets by calling (207) 967-2800 x111.\n\n\n\nAll proceeds raised support the Seashore Trolley Museum.
X-ALT-DESC;FMTTYPE=text/html:<span style="color:rgb(29\, 33\, 41)\; font-family:helvetica\,arial\,sans-serif\; font-size:14px">Join Seashore Trolley Museum as we celebrate our 80th Anniversary with a Speakeasy Casino Night on Friday\, July 5th from 7PM-10PM.</span><br>\n<br>\n<span style="color:rgb(29\, 33\, 41)\; font-family:helvetica\,arial\,sans-serif\; font-size:14px">The event features something for everyone:</span><br>\n<br>\n<span style="color:rgb(29\, 33\, 41)\; font-family:helvetica\,arial\,sans-serif\; font-size:14px">* Free Casino Entertainment! Chips are included in admission. Blackjack\, Roulette\, Craps and Ultimate Hold ?Em Poker will be available. Learn how to play or show your skills!</span><br>\n<br>\n<span style="color:rgb(29\, 33\, 41)\; font-family:helvetica\,arial\,sans-serif\; font-size:14px">* Winners of games will receive tickets to enter for a chance to win one of several prizes\, including a 7-Night Getaway Voucher\, redeemable at select locations in 33 states and 5 countries!</span><br>\n<br>\n<span style="color:rgb(29\, 33\, 41)\; font-family:helvetica\,arial\,sans-serif\; font-size:14px">* Live Jazz Music all night long</span><br>\n<br>\n<span style="color:rgb(29\, 33\, 41)\; font-family:helvetica\,arial\,sans-serif\; font-size:14px">* Speakeasy photo backdrop with antique automobiles from the period!</span><br>\n<br>\n<span style="color:rgb(29\, 33\, 41)\; font-family:helvetica\,arial\,sans-serif\; font-size:14px">* Cigar Bar by Calabash Cigar Café</span><br>\n<br>\n<span style="color:rgb(29\, 33\, 41)\; font-family:helvetica\,arial\,sans-serif\; font-size:14px">* Watch silent movies sitting on streetcars</span><br>\n<br>\n<span style="color:rgb(29\, 33\, 41)\; font-family:helvetica\,arial\,sans-serif\; font-size:14px">* Hors D?oeuvres and a Cash Bar all night long</span><br>\n<br>\n<span style="color:rgb(29\, 33\, 41)\; font-family:helvetica\,arial\,sans-serif\; font-size:14px">* Beautiful\, Evening Trolley Rides on the Museum?s private heritage railroad!</span><br>\n<br>\n<span style="color:rgb(29\, 33\, 41)\; font-family:helvetica\,arial\,sans-serif\; font-size:14px">* Speakeasy Costumes are encouraged but not required. Come comfortable!</span><br>\n<br>\n<span style="color:rgb(29\, 33\, 41)\; font-family:helvetica\,arial\,sans-serif\; font-size:14px">VIP Tickets also include:</span><br>\n<br>\n<span style="color:rgb(29\, 33\, 41)\; font-family:helvetica\,arial\,sans-serif\; font-size:14px">* An Exclusive Wine Tasting with Brian Petrie\, Bronco Wine</span><br>\n<span style="color:rgb(29\, 33\, 41)\; font-family:helvetica\,arial\,sans-serif\; font-size:14px">* Drink Tickets</span><br>\n<span style="color:rgb(29\, 33\, 41)\; font-family:helvetica\,arial\,sans-serif\; font-size:14px">* Double the chips for Casino Entertainment!</span><br>\n<br>\n<span style="color:rgb(29\, 33\, 41)\; font-family:helvetica\,arial\,sans-serif\; font-size:14px">Due to local and state gaming laws\, we ask that all patrons purchase tickets in advance of the event.</span><br>\n<br>\n<span style="color:rgb(29\, 33\, 41)\; font-family:helvetica\,arial\,sans-serif\; font-size:14px">Tickets are 100% Tax Deductible. </span><br>\n<br>\n<span style="color:rgb(29\, 33\, 41)\; font-family:helvetica\,arial\,sans-serif\; font-size:14px">Tickets are available at: </span><a href="https://trolleymuseum.org/events/purchase-tickets/?fbclid=IwAR3iaofurtUK4gtnAEy4OArBravaOzTStSaZ9p8hhHpngLADi-Pq1WOVzv0" rel="nofollow noopener" style="color: rgb(56\, 88\, 152)\; cursor: pointer\; text-decoration-line: none\; font-family: Helvetica\, Arial\, sans-serif\; font-size: 14px\; white-space: pre-wrap\;" target="_blank">https://trolleymuseum.org/events/purchase-tickets/</a><br>\n<br>\n<span style="color:rgb(29\, 33\, 41)\; font-family:helvetica\,arial\,sans-serif\; font-size:14px">Or reserve your tickets by calling (207) 967-2800 x111.</span><br>\n<br>\n<span style="color:rgb(29\, 33\, 41)\; font-family:helvetica\,arial\,sans-serif\; font-size:14px">All proceeds raised support the Seashore Trolley Museum.</span>
LOCATION:Seashore Trolley Museum Visitors Center Exhibit Room & Platform 195 Log Cabin Road Kennebunkport\, ME 04046
UID:e.1923.13342
SEQUENCE:3
DTSTAMP:20260424T183228Z
URL:https://chamber.gokennebunks.com/events/details/speakeasy-casino-night-07-05-2019-13342
END:VEVENT

END:VCALENDAR
