BEGIN:VCALENDAR
VERSION:2.0
PRODID:-//ChamberMaster//Event Calendar 2.0//EN
METHOD:PUBLISH
X-PUBLISHED-TTL:P3D
REFRESH-INTERVAL:P3D
CALSCALE:GREGORIAN
BEGIN:VEVENT
DTSTART:20240917T220000Z
DTEND:20240918T010000Z
X-MICROSOFT-CDO-ALLDAYEVENT:FALSE
SUMMARY:Spanish Wine Dinner: Jose Luis Navarro of La Rioja Alta Imports
DESCRIPTION:Dine with us for an elegant evening of farm-to-fork cuisine and specialty curated wine. In celebration of Earth's 2024 Wine Spectator Award\, we are hosting a night of smooth sips and exquisite bites where you'll begin with cocktails and canapes in the garden. Experience artisanal Spanish wines from importer La Rioja Alta\, presented by Jose Luis Navarro and perfectly paired with a delightful four-course dinner at Earth. Join us and relish in a magical culinary experience of memorable dishes and an enchanting ambience! 6:00pm\, Welcome Canapes and Cocktails in the Garden 6:30pm\, Four-course dinner with wine pairing $175 per person includes welcome reception\, dinner\, wine pairings\, tax\, and gratuity. Additional cocktails available for purchase from the bar.
X-ALT-DESC;FMTTYPE=text/html:Dine with us for an elegant evening of farm-to-fork cuisine and specialty curated wine. In celebration of Earth&rsquo\;s 2024 Wine Spectator Award\, we are hosting a night of smooth sips and exquisite bites where you&rsquo\;ll begin with cocktails and canapes in the garden. Experience artisanal Spanish wines from importer La Rioja Alta\, presented by Jose Luis Navarro and perfectly paired with a delightful four-course dinner at Earth. Join us and relish in a magical culinary experience of memorable dishes and an enchanting ambience! 6:00pm\, Welcome Canapes and Cocktails in the Garden 6:30pm\, Four-course dinner with wine pairing $175 per person includes welcome reception\, dinner\, wine pairings\, tax\, and gratuity. Additional cocktails available for purchase from the bar.
LOCATION:354 Goose Rocks Rd Kennebunkport\, ME 04046
UID:e.1923.29906
SEQUENCE:3
DTSTAMP:20260421T100424Z
URL:https://chamber.gokennebunks.com/events/details/spanish-wine-dinner-jose-luis-navarro-of-la-rioja-alta-imports-29906
END:VEVENT

END:VCALENDAR
