BEGIN:VCALENDAR
VERSION:2.0
PRODID:-//ChamberMaster//Event Calendar 2.0//EN
METHOD:PUBLISH
X-PUBLISHED-TTL:P3D
REFRESH-INTERVAL:P3D
CALSCALE:GREGORIAN
BEGIN:VEVENT
DTSTART:20180303T213000Z
DTEND:20180303T230000Z
X-MICROSOFT-CDO-ALLDAYEVENT:FALSE
SUMMARY:Spaghetti Supper
DESCRIPTION:Spaghetti Supper- rolls\, salad\, drinks\, homemade desserts- Historical Displays and raffle calendars
X-ALT-DESC;FMTTYPE=text/html:Spaghetti Supper- rolls\, salad\, drinks\, homemade desserts- Historical Displays and raffle calendars
LOCATION:M.L.Day School Gym- Limerick Road\, Arundel
UID:e.1923.6995
SEQUENCE:3
DTSTAMP:20260425T182833Z
URL:https://chamber.gokennebunks.com/events/details/spaghetti-supper-6995
END:VEVENT

END:VCALENDAR
