BEGIN:VCALENDAR
VERSION:2.0
PRODID:-//ChamberMaster//Event Calendar 2.0//EN
METHOD:PUBLISH
X-PUBLISHED-TTL:P3D
REFRESH-INTERVAL:P3D
CALSCALE:GREGORIAN
BEGIN:VEVENT
DTSTART:20190302T213000Z
DTEND:20190302T230000Z
X-MICROSOFT-CDO-ALLDAYEVENT:FALSE
SUMMARY:Spaghetti Supper
DESCRIPTION:Benefit spaghetti supper- rolls \, bread\, drinks\, salad\, homemade desserts
X-ALT-DESC;FMTTYPE=text/html:Benefit spaghetti supper- rolls \, bread\, drinks\, salad\, homemade desserts
LOCATION:M.L.Day School Gym
UID:e.1923.13072
SEQUENCE:3
DTSTAMP:20260425T000014Z
URL:https://chamber.gokennebunks.com/events/details/spaghetti-supper-03-02-2019-13072
END:VEVENT

END:VCALENDAR
