BEGIN:VCALENDAR
VERSION:2.0
PRODID:-//ChamberMaster//Event Calendar 2.0//EN
METHOD:PUBLISH
X-PUBLISHED-TTL:P3D
REFRESH-INTERVAL:P3D
CALSCALE:GREGORIAN
BEGIN:VEVENT
DTSTART:20190810T150000Z
DTEND:20190810T200000Z
X-MICROSOFT-CDO-ALLDAYEVENT:FALSE
SUMMARY:Southern Maine Steampunk Fair
DESCRIPTION:Join fairgoers at the Brick Store Museum on August 10th for a Steampunk extravaganza! Expect fantastic Victorian-esque and Jules Verne-esque creations! The 2019 Southern Main Steampunk fair features artisans\, author lectures\, live music\, wandering performers\, tea duels\, a costume contest\, food\, face painting\, DIY crafts\, and more!
X-ALT-DESC;FMTTYPE=text/html:Join fairgoers at the Brick Store Museum on August 10th for a Steampunk extravaganza! Expect fantastic Victorian-esque and Jules Verne-esque creations! The 2019 Southern Main Steampunk fair features artisans\, author lectures\, live music\, wandering performers\, tea duels\, a costume contest\, food\, face painting\, DIY crafts\, and more!<br>\n
LOCATION:Brick Store Museum 117 Main street Kennebunk\, ME 04043
UID:e.1923.13414
SEQUENCE:3
DTSTAMP:20260424T165823Z
URL:https://chamber.gokennebunks.com/events/details/southern-maine-steampunk-fair-08-10-2019-13414
END:VEVENT

END:VCALENDAR
