BEGIN:VCALENDAR
VERSION:2.0
PRODID:-//ChamberMaster//Event Calendar 2.0//EN
METHOD:PUBLISH
X-PUBLISHED-TTL:P3D
REFRESH-INTERVAL:P3D
CALSCALE:GREGORIAN
BEGIN:VEVENT
DTSTART:20180804T150000Z
DTEND:20180804T210000Z
X-MICROSOFT-CDO-ALLDAYEVENT:FALSE
SUMMARY:Southern Maine Steampunk Fair
DESCRIPTION:Steampunk often features anachronistic technologies or "retro-futuristic" inventions as people in the 19th century might have envisioned them. The era's perspective on fashion\, culture\, architectural style\, invention and art all play into the visual culture of Steampunk. Technology may include fictional machines like those found in the works of H. G. Wells and Jules Verne.\n\nAt the Southern Maine Steampunk Fair\, we're bringing new excitements this year!\n\nYou will find a Steampunk Tea Service\; how-to corset fittings\; Victorian makeup and hair tutorials\; vendors of Victorian-futuristic art and crafts\; take part in Victorian lawn games\; and so much more. Family-friendly costumes are encouraged and celebrated!\n\nLearn more on the Fair's website including how to present\, display\, visit\, sponsor\, and join us!
X-ALT-DESC;FMTTYPE=text/html:<p>Steampunk often features anachronistic technologies or &ldquo\;retro-futuristic&rdquo\; inventions as people in the 19th century might have envisioned them. The era&rsquo\;s perspective on fashion\, culture\, architectural style\, invention and art all play into the visual culture of Steampunk. Technology may include fictional machines like those found in the works of H. G. Wells and Jules Verne.</p>\n\n<p>At the Southern Maine&nbsp\;Steampunk Fair\, we&rsquo\;re bringing new excitements this year!</p>\n\n<p>You will find a Steampunk Tea Service\; how-to corset fittings\; Victorian makeup and hair tutorials\;&nbsp\;vendors of Victorian-futuristic art and crafts\; take part in Victorian lawn games\; and&nbsp\;so&nbsp\;much more. Family-friendly costumes are encouraged and celebrated!</p>\n\n<p>Learn more on the&nbsp\;<a href="http://www.brickstoremuseum.org/steampunkfair/" style="border: 0px\; font-style: inherit\; font-variant: inherit\; font-stretch: inherit\; font-size: inherit\; line-height: inherit\; font-family: inherit\; margin: 0px\; padding: 0px\; vertical-align: baseline\; color: rgb(153\, 51\, 0)\; text-decoration-line: none\;">Fair&rsquo\;s website</a>&hellip\;including how to present\, display\, visit\, sponsor\, and join us!</p>\n
LOCATION:Brick Store Museum 117 Main Street Kennebunk\, ME 04043
UID:e.1923.7695
SEQUENCE:3
DTSTAMP:20260425T115920Z
URL:https://chamber.gokennebunks.com/events/details/southern-maine-steampunk-fair-08-04-2018-7695
END:VEVENT

END:VCALENDAR
