BEGIN:VCALENDAR
VERSION:2.0
PRODID:-//ChamberMaster//Event Calendar 2.0//EN
METHOD:PUBLISH
X-PUBLISHED-TTL:P3D
REFRESH-INTERVAL:P3D
CALSCALE:GREGORIAN
BEGIN:VEVENT
DTSTART:20171206T220000Z
DTEND:20171207T000000Z
X-MICROSOFT-CDO-ALLDAYEVENT:FALSE
SUMMARY:Southern Maine Health Care (SMHC)'s Tree of Life Celebration
DESCRIPTION:Sponsored by SMHC's Auxiliary\, the Tree of Life campaign benefits life-saving care at the Sanford and Biddeford Emergency Departments. Consider making a donation to celebrate or remember someone special in the form of a dove   the universal symbol of peace. Each dove will be hung on a tree in each lobby and the names of those remembered will be read aloud during the ceremony. Our goal is to raise $10\,000 so that our clinicians can maintain the best possible patient care for those in the most urgent of need. The SMHC Auxiliary is a non-profit organization\, and all donations are tax-deductible. \n\nThe tree lighting ceremonies will be held on December 6\, 2017 at 5pm at our Biddeford and Sanford Medical Centers. Please join us for light refreshments and holiday music from Thornton Academy's String Quartet  as we honor and remember our loved ones.\n\nLive holiday music\, a celebration of loved ones\, refreshments\, and a tree lighting!
X-ALT-DESC;FMTTYPE=text/html:<p><span style="font-size:12px">Sponsored by SMHC&#39\;s Auxiliary\, the Tree of Life campaign benefits life-saving care at the Sanford and Biddeford Emergency Departments. Consider making a donation to celebrate or remember someone special in the form of a dove &ndash\; the universal symbol of peace. Each dove will be hung on a tree in each lobby and the names of those remembered will be read aloud during the ceremony. Our goal is to raise $10\,000 so that our clinicians can maintain the best possible patient care for those in the most urgent of need. The SMHC Auxiliary is a non-profit organization\, and all donations are tax-deductible. </span></p>\n\n<p><strong>The tree lighting ceremonies will be held on December 6\, 2017 at 5pm at our Biddeford and Sanford Medical Centers. </strong>Please join us for light refreshments and holiday music from Thornton Academy&rsquo\;s String Quartet&nbsp\; as we honor and remember our loved ones.</p>\n\n<div><span style="font-size:14px"><span style="color:rgb(192\, 0\, 0)\; font-family:cambria\,serif">Live holiday music\, a celebration of loved ones\, refreshments\, and a tree lighting!</span></span></div>\n
LOCATION:Southern Maine Health Care Biddeford Campus 1 Medical Center Drive Biddeford\, ME 04005
UID:e.1923.6969
SEQUENCE:3
DTSTAMP:20260425T224522Z
URL:https://chamber.gokennebunks.com/events/details/southern-maine-health-care-smhc-s-tree-of-life-celebration-6969
END:VEVENT

END:VCALENDAR
