BEGIN:VCALENDAR
VERSION:2.0
PRODID:-//ChamberMaster//Event Calendar 2.0//EN
METHOD:PUBLISH
X-PUBLISHED-TTL:P3D
REFRESH-INTERVAL:P3D
CALSCALE:GREGORIAN
BEGIN:VEVENT
DTSTART:20241006T143000Z
DTEND:20241006T170000Z
X-MICROSOFT-CDO-ALLDAYEVENT:FALSE
SUMMARY:South Congregational Church 200 Year Anniversary Celebration
DESCRIPTION:We are so excited to celebrate the 200 year anniversary of South Congregational Church this Fall.\n\n\n\nJoin us on Sunday\, October 6th to help celebrate this historical milestone. We will begin the morning at 10:30am with a Festal Worship. Worship will feature a living timeline\, historical liturgical elements\, guests\, and more. After\, join us for an 1824 themed brunch in the Community House. Please note\, reservations are required for brunch. Please visit tinyurl.com/1824a to RSVP.\n\n\n\nWe are so excited to celebrate 200 years of South Church history\, and we hope you will join us!
X-ALT-DESC;FMTTYPE=text/html:We are so excited to celebrate the 200 year anniversary of South Congregational Church this Fall.<br />\n<br />\nJoin us on Sunday\, October 6th to help celebrate this historical milestone. We will begin the morning at 10:30am with a Festal Worship. Worship will feature a living timeline\, historical liturgical elements\, guests\, and more. After\, join us for an 1824 themed brunch in the Community House.&nbsp\;Please note\, reservations are required for brunch. Please visit&nbsp\;<span style="color:rgb(0\, 0\, 0)">tinyurl.com/1824a</span>&nbsp\;to RSVP.<br />\n<br />\nWe are so excited to celebrate 200 years of South Church history\, and we hope you will join us!
LOCATION:South Congregational Church 2 North St.\, Kennebunkport
UID:e.1923.30524
SEQUENCE:3
DTSTAMP:20260421T100055Z
URL:https://chamber.gokennebunks.com/events/details/south-congregational-church-200-year-anniversary-celebration-30524
END:VEVENT

END:VCALENDAR
