BEGIN:VCALENDAR
VERSION:2.0
PRODID:-//ChamberMaster//Event Calendar 2.0//EN
METHOD:PUBLISH
X-PUBLISHED-TTL:P3D
REFRESH-INTERVAL:P3D
CALSCALE:GREGORIAN
BEGIN:VEVENT
DTSTART;VALUE=DATE:20240815
DTEND;VALUE=DATE:20240816
TRANSP:TRANSPARENT
X-MICROSOFT-CDO-ALLDAYEVENT:TRUE
SUMMARY:Sound Healing at Spa Voyage
DESCRIPTION:If you're interested in a sound healing by Rachel Rivera at Spa Voyage please sign up using the Eventbrite link below!\n\n\n\nSound Bath with Rachel Rivera at Spa Voyage Tickets\, Thu\, Aug 15\, 2024 at 5:30 PM | Eventbrite
X-ALT-DESC;FMTTYPE=text/html:If you&#39\;re interested in a sound healing by Rachel Rivera at Spa Voyage please sign up using the Eventbrite link below!<br />\n<br />\n<a href="https://www.eventbrite.com/e/sound-bath-with-rachel-rivera-at-spa-voyage-tickets-936183288417">Sound Bath with Rachel Rivera at Spa Voyage Tickets\, Thu\, Aug 15\, 2024 at 5:30 PM | Eventbrite</a>
LOCATION:
UID:e.1923.29817
SEQUENCE:3
DTSTAMP:20260421T124302Z
URL:https://chamber.gokennebunks.com/events/details/sound-healing-at-spa-voyage-29817
END:VEVENT

END:VCALENDAR
