BEGIN:VCALENDAR
VERSION:2.0
PRODID:-//ChamberMaster//Event Calendar 2.0//EN
METHOD:PUBLISH
X-PUBLISHED-TTL:P3D
REFRESH-INTERVAL:P3D
CALSCALE:GREGORIAN
BEGIN:VEVENT
DTSTART;VALUE=DATE:20250516
DTEND;VALUE=DATE:20250517
TRANSP:TRANSPARENT
X-MICROSOFT-CDO-ALLDAYEVENT:TRUE
SUMMARY:Songwriting & Music Community Day with musician Ginny Munroe
DESCRIPTION:Join us for a Community day of Songwriting and music. We will learn how to write and compose a simple song together with Ginny Munroe. Activities will include learning about song structure\, writing lyrics\, creating a chorus\, exploring melody and rhythm\, and putting all the elements together in a song. There will be a performance at the end of the day to share our creativity!\n\nOpen to families with children ages 5-10. Sign up today at www.schoolaroundus.org/cdays
X-ALT-DESC;FMTTYPE=text/html:<span style="color:rgb(0\, 0\, 0)\; font-family:poppins\; font-size:16px">Join us for a Community day of Songwriting and music. We will learn how to write and compose a simple song together with Ginny Munroe. Activities will include learning about song structure\, writing lyrics\, creating a chorus\, exploring melody and rhythm\, and putting all the elements together in a song. There will be a performance at the end of the day to share our creativity!<br />\nOpen to families with children ages 5-10. Sign up today at www.schoolaroundus.org/cdays</span>
LOCATION:School Around Us
UID:e.1923.34905
SEQUENCE:3
DTSTAMP:20260421T050056Z
URL:https://chamber.gokennebunks.com/events/details/songwriting-music-community-day-with-musician-ginny-munroe-34905
END:VEVENT

END:VCALENDAR
