BEGIN:VCALENDAR
VERSION:2.0
PRODID:-//ChamberMaster//Event Calendar 2.0//EN
METHOD:PUBLISH
X-PUBLISHED-TTL:P3D
REFRESH-INTERVAL:P3D
CALSCALE:GREGORIAN
BEGIN:VEVENT
DTSTART:20180617T140000Z
DTEND:20180617T210000Z
X-MICROSOFT-CDO-ALLDAYEVENT:FALSE
SUMMARY:Something's Fishy - Fathers Day Fun at Seashore Trolley
DESCRIPTION:Something's Fishy Fathers Day Fun at Seashore Trolley" Games at the Trolley Park!" Free admission for Dads visiting with kids
X-ALT-DESC;FMTTYPE=text/html:<strong><span style="font-family:gisha">Something&rsquo\;s Fishy&mdash\;Fathers Day Fun at Seashore Trolley&rdquo\; </span></strong><span style="font-family:gisha">Games at the Trolley Park!&rdquo\; </span><span style="font-family:gisha">Free admission for Dads visiting with kids</span><br />\n&nbsp\;
LOCATION:Seashore Trolley Museum\, 195 Log Cabin Rd\, Kennebunkport
UID:e.1923.7212
SEQUENCE:3
DTSTAMP:20260425T143535Z
URL:https://chamber.gokennebunks.com/events/details/something-s-fishy-fathers-day-fun-at-seashore-trolley-7212
END:VEVENT

END:VCALENDAR
