BEGIN:VCALENDAR
VERSION:2.0
PRODID:-//ChamberMaster//Event Calendar 2.0//EN
METHOD:PUBLISH
X-PUBLISHED-TTL:P3D
REFRESH-INTERVAL:P3D
CALSCALE:GREGORIAN
BEGIN:VEVENT
DTSTART:20240408T040000Z
DTEND:20240408T040000Z
X-MICROSOFT-CDO-ALLDAYEVENT:FALSE
SUMMARY:Solar Eclipse Watch Party at Cape Arundel Inn & Resort
DESCRIPTION:Experience the celestial wonder of the profound 95% view solar eclipse with a special package from Cape Arundel's prime viewing location! Immerse yourself in luxury while witnessing the awe-inspiring beauty of the solar eclipse in picturesque surroundings. Enjoy a discount on your stay\, exclusive access to the Solar Eclipse Watch Party\, a warm welcome with wine upon arrival\, the convenience of a 1pm early check-in\, and more.  Book now for an unforgettable celestial retreat!\n\n\n\nFMI: https://www.capearundelinn.com/maine-resort-packages
X-ALT-DESC;FMTTYPE=text/html:<p>Experience the celestial wonder of the profound&nbsp\;<a href="http://xjubier.free.fr/en/site_pages/solar_eclipses/TSE_2024_GoogleMapFull.html?Lat=43.34180&amp\;Lng=-70.46567&amp\;Elv=3.0&amp\;Zoom=8&amp\;TZ=-5.0&amp\;LC=1" target="_blank">95%&nbsp\;view&nbsp\;solar eclipse</a>&nbsp\;with a special package from Cape Arundel&#39\;s prime viewing location! Immerse yourself in luxury while witnessing the awe-inspiring beauty of the solar eclipse in picturesque surroundings. Enjoy a discount on your stay\, exclusive access to the&nbsp\;<a href="https://www.eventbrite.com/e/solar-eclipse-watch-party-tickets-846460775967?aff=oddtdtcreator">Solar Eclipse Watch Party</a>\, a warm welcome with wine upon arrival\, the convenience of a 1pm early check-in\, and more. &nbsp\;Book now for an unforgettable celestial retreat!<br />\n<br />\nFMI:&nbsp\;<a href="https://www.capearundelinn.com/maine-resort-packages">https://www.capearundelinn.com/maine-resort-packages</a></p>\n\n<div>&nbsp\;</div>\n
LOCATION:Cape Arundel Inn & Resort 208 Ocean Avenue Kennebunkport\, Maine 04046
UID:e.1923.24602
SEQUENCE:3
DTSTAMP:20260421T164146Z
URL:https://chamber.gokennebunks.com/events/details/solar-eclipse-watch-party-at-cape-arundel-inn-resort-24602
END:VEVENT

END:VCALENDAR
