BEGIN:VCALENDAR
VERSION:2.0
PRODID:-//ChamberMaster//Event Calendar 2.0//EN
METHOD:PUBLISH
X-PUBLISHED-TTL:P3D
REFRESH-INTERVAL:P3D
CALSCALE:GREGORIAN
BEGIN:VEVENT
DTSTART:20250710T213000Z
DTEND:20250710T233000Z
X-MICROSOFT-CDO-ALLDAYEVENT:FALSE
SUMMARY:Soaring Skies Soiree from KLT
DESCRIPTION:Join us for a joyful evening of cloud-kissed cocktails\, elevated conversation\, and lofty aspirations\, all in support of the land we love. Sip\, savor\, and celebrate with drinks and appetizers set against stunning ocean vistas\, accompanied by live music and a vibrant community of nature lovers and conservation champions. When: July 10\, 2024\, 5:30 - 7:30 p.m. Where: The Colony Hotel\, Ocean Porch What: Enjoy beautiful views on The Colony's Ocean Porch with drinks\, bites\, and a celebration of conservation! Enjoy live music from Paul Chase Jr! The Soiree is also the culmination of the Nature's Canvas: Unveiled art auction! ?? ?? Local artists have been creating pieces celebrating KLT's preserves\, and the online auction for those pieces will go live on Monday July 7th\, closing on July 10th at 7 p.m. Soiree attendees will get the opportunity to meet the artists\, view their works in person\, and bid on pieces to take home that evening. More information on Nature's Canvas: Unveiled at kennebunklandtrust.org/naturescanvas
X-ALT-DESC;FMTTYPE=text/html:Join us for a joyful evening of cloud-kissed cocktails\, elevated conversation\, and lofty aspirations\, all in support of the land we love. Sip\, savor\, and celebrate with drinks and appetizers set against stunning ocean vistas\, accompanied by live music and a vibrant community of nature lovers and conservation champions. When: July 10\, 2024\, 5:30 - 7:30 p.m. Where: The Colony Hotel\, Ocean Porch What: Enjoy beautiful views on The Colony&#39\;s Ocean Porch with drinks\, bites\, and a celebration of conservation! Enjoy live music from Paul Chase Jr! The Soiree is also the culmination of the Nature&#39\;s Canvas: Unveiled art auction! ?? ?? Local artists have been creating pieces celebrating KLT&#39\;s preserves\, and the online auction for those pieces will go live on Monday July 7th\, closing on July 10th at 7 p.m. Soiree attendees will get the opportunity to meet the artists\, view their works in person\, and bid on pieces to take home that evening. More information on Nature&#39\;s Canvas: Unveiled at kennebunklandtrust.org/naturescanvas
LOCATION:The Colony Hotel
UID:e.1923.35932
SEQUENCE:3
DTSTAMP:20260421T073714Z
URL:https://chamber.gokennebunks.com/events/details/soaring-skies-soiree-from-klt-35932
END:VEVENT

END:VCALENDAR
