BEGIN:VCALENDAR
VERSION:2.0
PRODID:-//ChamberMaster//Event Calendar 2.0//EN
METHOD:PUBLISH
X-PUBLISHED-TTL:P3D
REFRESH-INTERVAL:P3D
CALSCALE:GREGORIAN
BEGIN:VEVENT
DTSTART:20250208T180000Z
DTEND:20250208T200000Z
X-MICROSOFT-CDO-ALLDAYEVENT:FALSE
SUMMARY:Snuggle Up: DIY Chunky Knit Blanket Workshop
DESCRIPTION:Join us at the Grand Hotel for a cozy afternoon of crafting your very own Chunky Knit Blanket\, whether for yourself or as a thoughtful gift for someone special this season! Our talented instructor will guide you through the process\, providing all the materials you need\, making this event perfect for both beginners and experienced knitters. Grab your friends and enjoy a delightful\, hands-on experience as you create a beautiful blanket that will keep you snug all winter long! Part of Paint the Town Red Programming in Kennebunkport. Event Includes:   One (1) Chunky Knit Blanket   Complimentary refreshments: tea\, coffee\, and water *Hosted by Sarah Martin with South Shore Blanket Parties.
X-ALT-DESC;FMTTYPE=text/html:Join us at the Grand Hotel for a cozy afternoon of crafting your very own Chunky Knit Blanket\, whether for yourself or as a thoughtful gift for someone special this season! Our talented instructor will guide you through the process\, providing all the materials you need\, making this event perfect for both beginners and experienced knitters. Grab your friends and enjoy a delightful\, hands-on experience as you create a beautiful blanket that will keep you snug all winter long! Part of Paint the Town Red Programming in Kennebunkport. Event Includes: &bull\; One (1) Chunky Knit Blanket &bull\; Complimentary refreshments: tea\, coffee\, and water *Hosted by Sarah Martin with South Shore Blanket Parties.
LOCATION:The Grand Hotel - Kennebunk\, Maine
UID:e.1923.31498
SEQUENCE:3
DTSTAMP:20260420T230215Z
URL:https://chamber.gokennebunks.com/events/details/snuggle-up-diy-chunky-knit-blanket-workshop-31498
END:VEVENT

END:VCALENDAR
