BEGIN:VCALENDAR
VERSION:2.0
PRODID:-//ChamberMaster//Event Calendar 2.0//EN
METHOD:PUBLISH
X-PUBLISHED-TTL:P3D
REFRESH-INTERVAL:P3D
CALSCALE:GREGORIAN
BEGIN:VEVENT
DTSTART:20250426T000000Z
DTEND:20250426T030000Z
X-MICROSOFT-CDO-ALLDAYEVENT:FALSE
SUMMARY:Sneaky Miles with Matriarch
DESCRIPTION:General Admission: $20 Advance | $30 Door\n\nNO FOOD TRUCK\n\nDoors 7pm | Show 8pm\n\nIndie folk band\, Sneaky Miles\, formed in the fall of 2019. The trio found each other through Open Mic nights at the University of New Hampshire. Since forming\, the group has quickly become a local powerhouse in the NH Seacoast music scene. Though the band started as a trio\, they have recently teamed up with more members to feature drums\, bass\, and pedal steel. Sneaky Miles is known for their high energy performance and a sound that is greater than the sum of its parts.\n\n\n\n| Matriarch |\n\nmatriarch is alex julian mia miles and libby. they like making music and hanging out.
X-ALT-DESC;FMTTYPE=text/html:<h4><strong>General Admission: $20 Advance | $30 Door<br />\nNO FOOD TRUCK<br />\nDoors 7pm | Show 8pm</strong></h4>\n\n<p>Indie folk band\, <strong>Sneaky Miles\,</strong> formed in the fall of 2019. The trio found each other through Open Mic nights at the University of New Hampshire. Since forming\, the group has quickly become a local powerhouse in the NH Seacoast music scene. Though the band started as a trio\, they have recently teamed up with more members to feature drums\, bass\, and pedal steel. Sneaky Miles is known for their high energy performance and a sound that is greater than the sum of its parts.</p>\n\n<h4><br />\n| <a href="https://www.instagram.com/matriarch_haha/">Matriarch</a> |</h4>\n\n<p>matriarch is alex julian mia miles and libby. they like making music and hanging out.</p>\n
LOCATION:Vinegar Hill Music Theatre 53 Old Post Road Arundel\, Maine 04046
UID:e.1923.33979
SEQUENCE:3
DTSTAMP:20260421T032451Z
URL:https://chamber.gokennebunks.com/events/details/sneaky-miles-with-matriarch-33979
END:VEVENT

END:VCALENDAR
