BEGIN:VCALENDAR
VERSION:2.0
PRODID:-//ChamberMaster//Event Calendar 2.0//EN
METHOD:PUBLISH
X-PUBLISHED-TTL:P3D
REFRESH-INTERVAL:P3D
CALSCALE:GREGORIAN
BEGIN:VEVENT
DTSTART:20180922T140000Z
DTEND:20180922T200000Z
X-MICROSOFT-CDO-ALLDAYEVENT:FALSE
SUMMARY:Smithsonian Museum Day
DESCRIPTION:Museum Day is an annual celebration of boundless curiosity hosted by Smithsonian Magazine. The Brick Store Museum will be offering FREE admission all day. Tickets printed from smithsonianmag.com are recommended\, but not required.
X-ALT-DESC;FMTTYPE=text/html:Museum Day is an annual celebration of boundless curiosity hosted by Smithsonian Magazine. The Brick Store Museum will be offering FREE admission all day. Tickets printed from smithsonianmag.com are recommended\, but not required.
LOCATION:Brick Store Museum 117 Main Street Kennebunk\, Maine 04043
UID:e.1923.11474
SEQUENCE:3
DTSTAMP:20260425T103722Z
URL:https://chamber.gokennebunks.com/events/details/smithsonian-museum-day-11474
END:VEVENT

END:VCALENDAR
